BEGIN:VCALENDAR
VERSION:2.0
PRODID:-//St. James United Church - ECPv6.15.20//NONSGML v1.0//EN
CALSCALE:GREGORIAN
METHOD:PUBLISH
X-WR-CALNAME:St. James United Church
X-ORIGINAL-URL:https://www.stjamesunitedchurch.com
X-WR-CALDESC:Events for St. James United Church
REFRESH-INTERVAL;VALUE=DURATION:PT1H
X-Robots-Tag:noindex
X-PUBLISHED-TTL:PT1H
BEGIN:VTIMEZONE
TZID:America/Toronto
BEGIN:DAYLIGHT
TZOFFSETFROM:-0500
TZOFFSETTO:-0400
TZNAME:EDT
DTSTART:20240310T070000
END:DAYLIGHT
BEGIN:STANDARD
TZOFFSETFROM:-0400
TZOFFSETTO:-0500
TZNAME:EST
DTSTART:20241103T060000
END:STANDARD
BEGIN:DAYLIGHT
TZOFFSETFROM:-0500
TZOFFSETTO:-0400
TZNAME:EDT
DTSTART:20250309T070000
END:DAYLIGHT
BEGIN:STANDARD
TZOFFSETFROM:-0400
TZOFFSETTO:-0500
TZNAME:EST
DTSTART:20251102T060000
END:STANDARD
BEGIN:DAYLIGHT
TZOFFSETFROM:-0500
TZOFFSETTO:-0400
TZNAME:EDT
DTSTART:20260308T070000
END:DAYLIGHT
BEGIN:STANDARD
TZOFFSETFROM:-0400
TZOFFSETTO:-0500
TZNAME:EST
DTSTART:20261101T060000
END:STANDARD
END:VTIMEZONE
BEGIN:VEVENT
DTSTART;TZID=America/Toronto:20251101T100000
DTEND;TZID=America/Toronto:20251101T110000
DTSTAMP:20260423T142241
CREATED:20250927T144942Z
LAST-MODIFIED:20250927T164647Z
UID:10000770-1761991200-1761994800@www.stjamesunitedchurch.com
SUMMARY:Saturday Yoga class
DESCRIPTION:St James is now offering a yoga class on Saturdays at 10:00 am in the lounge. Drop in cost is $25. This gentle\, restorative class is essentially designed for those who are looking for an opportunity to increase mobility\, balance and strength. Those new to yoga\, or those with less experience\, will easily be able to follow our yoga instructor\, Manju Dewan\, as she demonstrates and adapts in order to accommodate each individual in the class. If you would like more information\, please contact Joyce Wilson at 647 221-8514.
URL:https://www.stjamesunitedchurch.com/event/saturday-yoga-class/2025-11-01/
ATTACH;FMTTYPE=image/jpeg:https://www.stjamesunitedchurch.com/wordpress/wp-content/uploads/2023/05/Yoga.jpeg
END:VEVENT
BEGIN:VEVENT
DTSTART;TZID=America/Toronto:20251105T110000
DTEND;TZID=America/Toronto:20251105T120000
DTSTAMP:20260423T142241
CREATED:20250906T154413Z
LAST-MODIFIED:20250906T154704Z
UID:10000702-1762340400-1762344000@www.stjamesunitedchurch.com
SUMMARY:Yoga
DESCRIPTION:Yoga at St. James will be continuing this fall with instructors from Power Yoga Canada – At Work\, including Ashley and Silvana.\n\nPlease spread the word!  Newcomers are welcome to join our yoga practice.\n\nJust like last year\, the pricing is $25/class for drop-in (or “pay as you go”).  If you want to prepay for the 2 months (September 10 – October 29th) then it is a savings of $5/class\, or $20 each class = $160.\n\nYou can pay by etransfer to me (karen_forgrave@hotmail.com) and I will add your name to the list.  Otherwise\, you can pay by cash or cheque on the first day of the class to Matty in the church office.\n\nAs always\, if this price represents a financial burden to you\, please reach out confidentially and subsidies can be made available.\n\nLooking forward to seeing you on the yoga mat!
URL:https://www.stjamesunitedchurch.com/event/yoga-5/2025-11-05/
ATTACH;FMTTYPE=image/jpeg:https://www.stjamesunitedchurch.com/wordpress/wp-content/uploads/2023/05/Yoga.jpeg
END:VEVENT
BEGIN:VEVENT
DTSTART;TZID=America/Toronto:20251107T180000
DTEND;TZID=America/Toronto:20251107T220000
DTSTAMP:20260423T142241
CREATED:20250924T143605Z
LAST-MODIFIED:20251002T162826Z
UID:10000764-1762538400-1762552800@www.stjamesunitedchurch.com
SUMMARY:Caribbean Night
DESCRIPTION:Come out enjoy Caribbean food and music on Nov 7th. at 6PM \nAdults: $60.00      Children 3 – 12 years: $30.00     Under 3 years : Free \n  \nBeige And Yellow Playful Dance Party Latin Night Instagram Post
URL:https://www.stjamesunitedchurch.com/event/caribbean-night/
END:VEVENT
BEGIN:VEVENT
DTSTART;TZID=America/Toronto:20251108T100000
DTEND;TZID=America/Toronto:20251108T110000
DTSTAMP:20260423T142241
CREATED:20250927T144942Z
LAST-MODIFIED:20250927T164647Z
UID:10000771-1762596000-1762599600@www.stjamesunitedchurch.com
SUMMARY:Saturday Yoga class
DESCRIPTION:St James is now offering a yoga class on Saturdays at 10:00 am in the lounge. Drop in cost is $25. This gentle\, restorative class is essentially designed for those who are looking for an opportunity to increase mobility\, balance and strength. Those new to yoga\, or those with less experience\, will easily be able to follow our yoga instructor\, Manju Dewan\, as she demonstrates and adapts in order to accommodate each individual in the class. If you would like more information\, please contact Joyce Wilson at 647 221-8514.
URL:https://www.stjamesunitedchurch.com/event/saturday-yoga-class/2025-11-08/
ATTACH;FMTTYPE=image/jpeg:https://www.stjamesunitedchurch.com/wordpress/wp-content/uploads/2023/05/Yoga.jpeg
END:VEVENT
BEGIN:VEVENT
DTSTART;TZID=America/Toronto:20251112T110000
DTEND;TZID=America/Toronto:20251112T120000
DTSTAMP:20260423T142241
CREATED:20250906T154413Z
LAST-MODIFIED:20250906T154704Z
UID:10000703-1762945200-1762948800@www.stjamesunitedchurch.com
SUMMARY:Yoga
DESCRIPTION:Yoga at St. James will be continuing this fall with instructors from Power Yoga Canada – At Work\, including Ashley and Silvana.\n\nPlease spread the word!  Newcomers are welcome to join our yoga practice.\n\nJust like last year\, the pricing is $25/class for drop-in (or “pay as you go”).  If you want to prepay for the 2 months (September 10 – October 29th) then it is a savings of $5/class\, or $20 each class = $160.\n\nYou can pay by etransfer to me (karen_forgrave@hotmail.com) and I will add your name to the list.  Otherwise\, you can pay by cash or cheque on the first day of the class to Matty in the church office.\n\nAs always\, if this price represents a financial burden to you\, please reach out confidentially and subsidies can be made available.\n\nLooking forward to seeing you on the yoga mat!
URL:https://www.stjamesunitedchurch.com/event/yoga-5/2025-11-12/
ATTACH;FMTTYPE=image/jpeg:https://www.stjamesunitedchurch.com/wordpress/wp-content/uploads/2023/05/Yoga.jpeg
END:VEVENT
BEGIN:VEVENT
DTSTART;TZID=America/Toronto:20251119T110000
DTEND;TZID=America/Toronto:20251119T120000
DTSTAMP:20260423T142241
CREATED:20250906T154413Z
LAST-MODIFIED:20250906T154704Z
UID:10000704-1763550000-1763553600@www.stjamesunitedchurch.com
SUMMARY:Yoga
DESCRIPTION:Yoga at St. James will be continuing this fall with instructors from Power Yoga Canada – At Work\, including Ashley and Silvana.\n\nPlease spread the word!  Newcomers are welcome to join our yoga practice.\n\nJust like last year\, the pricing is $25/class for drop-in (or “pay as you go”).  If you want to prepay for the 2 months (September 10 – October 29th) then it is a savings of $5/class\, or $20 each class = $160.\n\nYou can pay by etransfer to me (karen_forgrave@hotmail.com) and I will add your name to the list.  Otherwise\, you can pay by cash or cheque on the first day of the class to Matty in the church office.\n\nAs always\, if this price represents a financial burden to you\, please reach out confidentially and subsidies can be made available.\n\nLooking forward to seeing you on the yoga mat!
URL:https://www.stjamesunitedchurch.com/event/yoga-5/2025-11-19/
ATTACH;FMTTYPE=image/jpeg:https://www.stjamesunitedchurch.com/wordpress/wp-content/uploads/2023/05/Yoga.jpeg
END:VEVENT
BEGIN:VEVENT
DTSTART;TZID=America/Toronto:20251126T110000
DTEND;TZID=America/Toronto:20251126T120000
DTSTAMP:20260423T142241
CREATED:20250906T154413Z
LAST-MODIFIED:20250906T154704Z
UID:10000705-1764154800-1764158400@www.stjamesunitedchurch.com
SUMMARY:Yoga
DESCRIPTION:Yoga at St. James will be continuing this fall with instructors from Power Yoga Canada – At Work\, including Ashley and Silvana.\n\nPlease spread the word!  Newcomers are welcome to join our yoga practice.\n\nJust like last year\, the pricing is $25/class for drop-in (or “pay as you go”).  If you want to prepay for the 2 months (September 10 – October 29th) then it is a savings of $5/class\, or $20 each class = $160.\n\nYou can pay by etransfer to me (karen_forgrave@hotmail.com) and I will add your name to the list.  Otherwise\, you can pay by cash or cheque on the first day of the class to Matty in the church office.\n\nAs always\, if this price represents a financial burden to you\, please reach out confidentially and subsidies can be made available.\n\nLooking forward to seeing you on the yoga mat!
URL:https://www.stjamesunitedchurch.com/event/yoga-5/2025-11-26/
ATTACH;FMTTYPE=image/jpeg:https://www.stjamesunitedchurch.com/wordpress/wp-content/uploads/2023/05/Yoga.jpeg
END:VEVENT
BEGIN:VEVENT
DTSTART;TZID=America/Toronto:20251128T190000
DTEND;TZID=America/Toronto:20251128T210000
DTSTAMP:20260423T142241
CREATED:20250906T152415Z
LAST-MODIFIED:20250909T152203Z
UID:10000762-1764356400-1764363600@www.stjamesunitedchurch.com
SUMMARY:Family Games Night
DESCRIPTION:Family Games Night is the last Friday of the month starting  Friday\, Sep 26th from 7pm – 9pm!  \nAll are welcome 😉\n\n2025-fall-games-night
URL:https://www.stjamesunitedchurch.com/event/family-games-night-3/2025-11-28/
ATTACH;FMTTYPE=image/jpeg:https://www.stjamesunitedchurch.com/wordpress/wp-content/uploads/2025/09/games-night.jpg
END:VEVENT
END:VCALENDAR