BEGIN:VCALENDAR
VERSION:2.0
PRODID:-//St. James United Church - ECPv6.15.20//NONSGML v1.0//EN
CALSCALE:GREGORIAN
METHOD:PUBLISH
X-WR-CALNAME:St. James United Church
X-ORIGINAL-URL:https://www.stjamesunitedchurch.com
X-WR-CALDESC:Events for St. James United Church
REFRESH-INTERVAL;VALUE=DURATION:PT1H
X-Robots-Tag:noindex
X-PUBLISHED-TTL:PT1H
BEGIN:VTIMEZONE
TZID:America/Toronto
BEGIN:DAYLIGHT
TZOFFSETFROM:-0500
TZOFFSETTO:-0400
TZNAME:EDT
DTSTART:20240310T070000
END:DAYLIGHT
BEGIN:STANDARD
TZOFFSETFROM:-0400
TZOFFSETTO:-0500
TZNAME:EST
DTSTART:20241103T060000
END:STANDARD
BEGIN:DAYLIGHT
TZOFFSETFROM:-0500
TZOFFSETTO:-0400
TZNAME:EDT
DTSTART:20250309T070000
END:DAYLIGHT
BEGIN:STANDARD
TZOFFSETFROM:-0400
TZOFFSETTO:-0500
TZNAME:EST
DTSTART:20251102T060000
END:STANDARD
BEGIN:DAYLIGHT
TZOFFSETFROM:-0500
TZOFFSETTO:-0400
TZNAME:EDT
DTSTART:20260308T070000
END:DAYLIGHT
BEGIN:STANDARD
TZOFFSETFROM:-0400
TZOFFSETTO:-0500
TZNAME:EST
DTSTART:20261101T060000
END:STANDARD
END:VTIMEZONE
BEGIN:VEVENT
DTSTART;TZID=America/Toronto:20250910T110000
DTEND;TZID=America/Toronto:20250910T120000
DTSTAMP:20260425T071017
CREATED:20250906T154413Z
LAST-MODIFIED:20250906T154704Z
UID:10000694-1757502000-1757505600@www.stjamesunitedchurch.com
SUMMARY:Yoga
DESCRIPTION:Yoga at St. James will be continuing this fall with instructors from Power Yoga Canada – At Work\, including Ashley and Silvana.\n\nPlease spread the word!  Newcomers are welcome to join our yoga practice.\n\nJust like last year\, the pricing is $25/class for drop-in (or “pay as you go”).  If you want to prepay for the 2 months (September 10 – October 29th) then it is a savings of $5/class\, or $20 each class = $160.\n\nYou can pay by etransfer to me (karen_forgrave@hotmail.com) and I will add your name to the list.  Otherwise\, you can pay by cash or cheque on the first day of the class to Matty in the church office.\n\nAs always\, if this price represents a financial burden to you\, please reach out confidentially and subsidies can be made available.\n\nLooking forward to seeing you on the yoga mat!
URL:https://www.stjamesunitedchurch.com/event/yoga-5/2025-09-10/
ATTACH;FMTTYPE=image/jpeg:https://www.stjamesunitedchurch.com/wordpress/wp-content/uploads/2023/05/Yoga.jpeg
END:VEVENT
BEGIN:VEVENT
DTSTART;TZID=America/Toronto:20250914T103000
DTEND;TZID=America/Toronto:20250914T113000
DTSTAMP:20260425T071017
CREATED:20250906T144112Z
LAST-MODIFIED:20250906T151441Z
UID:10000054-1757845800-1757849400@www.stjamesunitedchurch.com
SUMMARY:Sunday School Kick-off
DESCRIPTION:Sunday\, September 14th will be the start of our Sunday School year!  Sunday School is offered during the service for children in JK through Grade 12.   Sunday Students participate in a variety of hands-on workshops such as cooking\, computers\, games\, art and drama as we learn about the Bible Story each week.  Newcomers are always welcome – come and try it out!  Free registration! \nCome enjoy Ice cream after the service \n 
URL:https://www.stjamesunitedchurch.com/event/sunday-school-kick-off/
ATTACH;FMTTYPE=image/png:https://www.stjamesunitedchurch.com/wordpress/wp-content/uploads/2023/08/Sunday-School-kickoff.png
END:VEVENT
BEGIN:VEVENT
DTSTART;TZID=America/Toronto:20250917T110000
DTEND;TZID=America/Toronto:20250917T120000
DTSTAMP:20260425T071017
CREATED:20250906T154413Z
LAST-MODIFIED:20250906T154704Z
UID:10000695-1758106800-1758110400@www.stjamesunitedchurch.com
SUMMARY:Yoga
DESCRIPTION:Yoga at St. James will be continuing this fall with instructors from Power Yoga Canada – At Work\, including Ashley and Silvana.\n\nPlease spread the word!  Newcomers are welcome to join our yoga practice.\n\nJust like last year\, the pricing is $25/class for drop-in (or “pay as you go”).  If you want to prepay for the 2 months (September 10 – October 29th) then it is a savings of $5/class\, or $20 each class = $160.\n\nYou can pay by etransfer to me (karen_forgrave@hotmail.com) and I will add your name to the list.  Otherwise\, you can pay by cash or cheque on the first day of the class to Matty in the church office.\n\nAs always\, if this price represents a financial burden to you\, please reach out confidentially and subsidies can be made available.\n\nLooking forward to seeing you on the yoga mat!
URL:https://www.stjamesunitedchurch.com/event/yoga-5/2025-09-17/
ATTACH;FMTTYPE=image/jpeg:https://www.stjamesunitedchurch.com/wordpress/wp-content/uploads/2023/05/Yoga.jpeg
END:VEVENT
BEGIN:VEVENT
DTSTART;TZID=America/Toronto:20250924T110000
DTEND;TZID=America/Toronto:20250924T120000
DTSTAMP:20260425T071017
CREATED:20250906T154413Z
LAST-MODIFIED:20250906T154704Z
UID:10000696-1758711600-1758715200@www.stjamesunitedchurch.com
SUMMARY:Yoga
DESCRIPTION:Yoga at St. James will be continuing this fall with instructors from Power Yoga Canada – At Work\, including Ashley and Silvana.\n\nPlease spread the word!  Newcomers are welcome to join our yoga practice.\n\nJust like last year\, the pricing is $25/class for drop-in (or “pay as you go”).  If you want to prepay for the 2 months (September 10 – October 29th) then it is a savings of $5/class\, or $20 each class = $160.\n\nYou can pay by etransfer to me (karen_forgrave@hotmail.com) and I will add your name to the list.  Otherwise\, you can pay by cash or cheque on the first day of the class to Matty in the church office.\n\nAs always\, if this price represents a financial burden to you\, please reach out confidentially and subsidies can be made available.\n\nLooking forward to seeing you on the yoga mat!
URL:https://www.stjamesunitedchurch.com/event/yoga-5/2025-09-24/
ATTACH;FMTTYPE=image/jpeg:https://www.stjamesunitedchurch.com/wordpress/wp-content/uploads/2023/05/Yoga.jpeg
END:VEVENT
BEGIN:VEVENT
DTSTART;TZID=America/Toronto:20250926T190000
DTEND;TZID=America/Toronto:20250926T210000
DTSTAMP:20260425T071017
CREATED:20250906T152415Z
LAST-MODIFIED:20250909T152203Z
UID:10000693-1758913200-1758920400@www.stjamesunitedchurch.com
SUMMARY:Family Games Night
DESCRIPTION:Family Games Night is the last Friday of the month starting  Friday\, Sep 26th from 7pm – 9pm!  \nAll are welcome 😉\n\n2025-fall-games-night
URL:https://www.stjamesunitedchurch.com/event/family-games-night-3/2025-09-26/
ATTACH;FMTTYPE=image/jpeg:https://www.stjamesunitedchurch.com/wordpress/wp-content/uploads/2025/09/games-night.jpg
END:VEVENT
BEGIN:VEVENT
DTSTART;TZID=America/Toronto:20250927T100000
DTEND;TZID=America/Toronto:20250927T110000
DTSTAMP:20260425T071017
CREATED:20250927T144942Z
LAST-MODIFIED:20250927T164647Z
UID:10000765-1758967200-1758970800@www.stjamesunitedchurch.com
SUMMARY:Saturday Yoga class
DESCRIPTION:St James is now offering a yoga class on Saturdays at 10:00 am in the lounge. Drop in cost is $25. This gentle\, restorative class is essentially designed for those who are looking for an opportunity to increase mobility\, balance and strength. Those new to yoga\, or those with less experience\, will easily be able to follow our yoga instructor\, Manju Dewan\, as she demonstrates and adapts in order to accommodate each individual in the class. If you would like more information\, please contact Joyce Wilson at 647 221-8514.
URL:https://www.stjamesunitedchurch.com/event/saturday-yoga-class/2025-09-27/
ATTACH;FMTTYPE=image/jpeg:https://www.stjamesunitedchurch.com/wordpress/wp-content/uploads/2023/05/Yoga.jpeg
END:VEVENT
END:VCALENDAR