BEGIN:VCALENDAR
VERSION:2.0
PRODID:-//St. James United Church - ECPv6.15.20//NONSGML v1.0//EN
CALSCALE:GREGORIAN
METHOD:PUBLISH
X-ORIGINAL-URL:https://www.stjamesunitedchurch.com
X-WR-CALDESC:Events for St. James United Church
REFRESH-INTERVAL;VALUE=DURATION:PT1H
X-Robots-Tag:noindex
X-PUBLISHED-TTL:PT1H
BEGIN:VTIMEZONE
TZID:America/Toronto
BEGIN:DAYLIGHT
TZOFFSETFROM:-0500
TZOFFSETTO:-0400
TZNAME:EDT
DTSTART:20230312T070000
END:DAYLIGHT
BEGIN:STANDARD
TZOFFSETFROM:-0400
TZOFFSETTO:-0500
TZNAME:EST
DTSTART:20231105T060000
END:STANDARD
BEGIN:DAYLIGHT
TZOFFSETFROM:-0500
TZOFFSETTO:-0400
TZNAME:EDT
DTSTART:20240310T070000
END:DAYLIGHT
BEGIN:STANDARD
TZOFFSETFROM:-0400
TZOFFSETTO:-0500
TZNAME:EST
DTSTART:20241103T060000
END:STANDARD
BEGIN:DAYLIGHT
TZOFFSETFROM:-0500
TZOFFSETTO:-0400
TZNAME:EDT
DTSTART:20250309T070000
END:DAYLIGHT
BEGIN:STANDARD
TZOFFSETFROM:-0400
TZOFFSETTO:-0500
TZNAME:EST
DTSTART:20251102T060000
END:STANDARD
END:VTIMEZONE
BEGIN:VEVENT
DTSTART;TZID=America/Toronto:20240804T103000
DTEND;TZID=America/Toronto:20240804T113000
DTSTAMP:20260421T062129
CREATED:20240629T181251Z
LAST-MODIFIED:20240630T175911Z
UID:10000046-1722767400-1722771000@www.stjamesunitedchurch.com
SUMMARY:Summer church Services - Richview
DESCRIPTION:Summer Services Schedule:\n\n\nSt. James UC June 30\, July  7\, 14\, 21 \, 28 –  400 Burnhamthorpe Rd            https://www.stjamesunitedchurch.com/\nRichview UC Aug  4\, 11\, 18\, 26 –  149 Wellesworth Dr\,                                     http://richviewunitedchurch.org/
URL:https://www.stjamesunitedchurch.com/event/summer-church-services-richview-2/2024-08-04/
ATTACH;FMTTYPE=image/jpeg:https://www.stjamesunitedchurch.com/wordpress/wp-content/uploads/2023/05/Richview-e1685384722114.jpeg
END:VEVENT
BEGIN:VEVENT
DTSTART;TZID=America/Toronto:20240811T103000
DTEND;TZID=America/Toronto:20240811T113000
DTSTAMP:20260421T062129
CREATED:20240629T181251Z
LAST-MODIFIED:20240630T175911Z
UID:10000227-1723372200-1723375800@www.stjamesunitedchurch.com
SUMMARY:Summer church Services - Richview
DESCRIPTION:Summer Services Schedule:\n\n\nSt. James UC June 30\, July  7\, 14\, 21 \, 28 –  400 Burnhamthorpe Rd            https://www.stjamesunitedchurch.com/\nRichview UC Aug  4\, 11\, 18\, 26 –  149 Wellesworth Dr\,                                     http://richviewunitedchurch.org/
URL:https://www.stjamesunitedchurch.com/event/summer-church-services-richview-2/2024-08-11/
ATTACH;FMTTYPE=image/jpeg:https://www.stjamesunitedchurch.com/wordpress/wp-content/uploads/2023/05/Richview-e1685384722114.jpeg
END:VEVENT
BEGIN:VEVENT
DTSTART;TZID=America/Toronto:20240813T133000
DTEND;TZID=America/Toronto:20240813T153000
DTSTAMP:20260421T062129
CREATED:20240630T175214Z
LAST-MODIFIED:20240914T160857Z
UID:10000199-1723555800-1723563000@www.stjamesunitedchurch.com
SUMMARY:August Euchre
DESCRIPTION:Euchre will continue during the summer months\, July & August. Please let Eleanor Harris know if you wish to join. Cost is $5. We meet in the Lounge at 1:30p.m. every 2nd & 4th Tuesday. All are welcome. Here are the dates: July 9th & 23rd\, Aug 13th & 27th. Contact Eleanor at 416-234-1365 or email b_eharris@hotmail.com
URL:https://www.stjamesunitedchurch.com/event/august-euchre/2024-08-13/
ATTACH;FMTTYPE=image/png:https://www.stjamesunitedchurch.com/wordpress/wp-content/uploads/2022/11/Euchre-e1667768558861.png
END:VEVENT
BEGIN:VEVENT
DTSTART;TZID=America/Toronto:20240818T103000
DTEND;TZID=America/Toronto:20240818T113000
DTSTAMP:20260421T062129
CREATED:20240629T181251Z
LAST-MODIFIED:20240630T175911Z
UID:10000228-1723977000-1723980600@www.stjamesunitedchurch.com
SUMMARY:Summer church Services - Richview
DESCRIPTION:Summer Services Schedule:\n\n\nSt. James UC June 30\, July  7\, 14\, 21 \, 28 –  400 Burnhamthorpe Rd            https://www.stjamesunitedchurch.com/\nRichview UC Aug  4\, 11\, 18\, 26 –  149 Wellesworth Dr\,                                     http://richviewunitedchurch.org/
URL:https://www.stjamesunitedchurch.com/event/summer-church-services-richview-2/2024-08-18/
ATTACH;FMTTYPE=image/jpeg:https://www.stjamesunitedchurch.com/wordpress/wp-content/uploads/2023/05/Richview-e1685384722114.jpeg
END:VEVENT
BEGIN:VEVENT
DTSTART;TZID=America/Toronto:20240825T103000
DTEND;TZID=America/Toronto:20240825T113000
DTSTAMP:20260421T062129
CREATED:20240629T181251Z
LAST-MODIFIED:20240630T175911Z
UID:10000229-1724581800-1724585400@www.stjamesunitedchurch.com
SUMMARY:Summer church Services - Richview
DESCRIPTION:Summer Services Schedule:\n\n\nSt. James UC June 30\, July  7\, 14\, 21 \, 28 –  400 Burnhamthorpe Rd            https://www.stjamesunitedchurch.com/\nRichview UC Aug  4\, 11\, 18\, 26 –  149 Wellesworth Dr\,                                     http://richviewunitedchurch.org/
URL:https://www.stjamesunitedchurch.com/event/summer-church-services-richview-2/2024-08-25/
ATTACH;FMTTYPE=image/jpeg:https://www.stjamesunitedchurch.com/wordpress/wp-content/uploads/2023/05/Richview-e1685384722114.jpeg
END:VEVENT
BEGIN:VEVENT
DTSTART;TZID=America/Toronto:20240827T133000
DTEND;TZID=America/Toronto:20240827T153000
DTSTAMP:20260421T062129
CREATED:20240630T175214Z
LAST-MODIFIED:20240914T160857Z
UID:10000200-1724765400-1724772600@www.stjamesunitedchurch.com
SUMMARY:August Euchre
DESCRIPTION:Euchre will continue during the summer months\, July & August. Please let Eleanor Harris know if you wish to join. Cost is $5. We meet in the Lounge at 1:30p.m. every 2nd & 4th Tuesday. All are welcome. Here are the dates: July 9th & 23rd\, Aug 13th & 27th. Contact Eleanor at 416-234-1365 or email b_eharris@hotmail.com
URL:https://www.stjamesunitedchurch.com/event/august-euchre/2024-08-27/
ATTACH;FMTTYPE=image/png:https://www.stjamesunitedchurch.com/wordpress/wp-content/uploads/2022/11/Euchre-e1667768558861.png
END:VEVENT
END:VCALENDAR