BEGIN:VCALENDAR
VERSION:2.0
PRODID:-//St. James United Church - ECPv6.15.20//NONSGML v1.0//EN
CALSCALE:GREGORIAN
METHOD:PUBLISH
X-WR-CALNAME:St. James United Church
X-ORIGINAL-URL:https://www.stjamesunitedchurch.com
X-WR-CALDESC:Events for St. James United Church
REFRESH-INTERVAL;VALUE=DURATION:PT1H
X-Robots-Tag:noindex
X-PUBLISHED-TTL:PT1H
BEGIN:VTIMEZONE
TZID:America/Toronto
BEGIN:DAYLIGHT
TZOFFSETFROM:-0500
TZOFFSETTO:-0400
TZNAME:EDT
DTSTART:20230312T070000
END:DAYLIGHT
BEGIN:STANDARD
TZOFFSETFROM:-0400
TZOFFSETTO:-0500
TZNAME:EST
DTSTART:20231105T060000
END:STANDARD
BEGIN:DAYLIGHT
TZOFFSETFROM:-0500
TZOFFSETTO:-0400
TZNAME:EDT
DTSTART:20240310T070000
END:DAYLIGHT
BEGIN:STANDARD
TZOFFSETFROM:-0400
TZOFFSETTO:-0500
TZNAME:EST
DTSTART:20241103T060000
END:STANDARD
BEGIN:DAYLIGHT
TZOFFSETFROM:-0500
TZOFFSETTO:-0400
TZNAME:EDT
DTSTART:20250309T070000
END:DAYLIGHT
BEGIN:STANDARD
TZOFFSETFROM:-0400
TZOFFSETTO:-0500
TZNAME:EST
DTSTART:20251102T060000
END:STANDARD
END:VTIMEZONE
BEGIN:VEVENT
DTSTART;TZID=America/Toronto:20241027T103000
DTEND;TZID=America/Toronto:20241027T113000
DTSTAMP:20260423T213601
CREATED:20241003T170837Z
LAST-MODIFIED:20241003T170837Z
UID:10000647-1730025000-1730028600@www.stjamesunitedchurch.com
SUMMARY:All Saints Day
DESCRIPTION:All Saints Day / Spirit Sunday Dress-Up Day is Sunday\, October 27th.  Dress as a person\, animal or event from the Bible! Be ready to give clues about your character (are you from the Old Testament or New Testament?  What are you known for?).  Rev Richard will make a guess after clues are given during circle time!  Be creative!  We can’t wait to see your outfit!
URL:https://www.stjamesunitedchurch.com/event/all-saints-day/
END:VEVENT
BEGIN:VEVENT
DTSTART;TZID=America/Toronto:20241026T183000
DTEND;TZID=America/Toronto:20241026T200000
DTSTAMP:20260423T213601
CREATED:20241003T171029Z
LAST-MODIFIED:20241005T152155Z
UID:10000648-1729967400-1729972800@www.stjamesunitedchurch.com
SUMMARY:Pumpkin Carving
DESCRIPTION:Saturday\, October 26th:  6:30 – 8:00pm – Community Pumpkin Carving Party hosted at St. James! 🎃 We will supply the pumpkin\, the tools for carving\, and you can leave the mess here\, and go home with your pumpkin ready for Halloween!  Cost is $10 per family for 1 pumpkin\, additional pumpkins may be available to purchase if requried.  Costumes encouraged!  Spread the word to neighbours with young children!\n\nHaloween Pumpkin Carving Poster\n 
URL:https://www.stjamesunitedchurch.com/event/pumpkin-carving/
END:VEVENT
BEGIN:VEVENT
DTSTART;TZID=America/Toronto:20241026T130000
DTEND;TZID=America/Toronto:20241026T150000
DTSTAMP:20260423T213601
CREATED:20240914T164619Z
LAST-MODIFIED:20241005T155212Z
UID:10000249-1729947600-1729954800@www.stjamesunitedchurch.com
SUMMARY:Gold Party Princess - Jewellery
DESCRIPTION:Louise\, the “Gold Party Princess” is back! She is coming Saturday\, October 26th from 1- 3pm. Contact Karen Forgrave to reserve your spot. Louise will give you cash for your gold\, platinum or silver items and the church gets an additional 10% of whatever is brought in that day. If you have estate items you are clearing out\, odd gold earrings or gold tooth fillings that are being removed\, please save them for Oct. 26! \n2024 Gold Fundraiser Poster
URL:https://www.stjamesunitedchurch.com/event/gold-party-princess-jewellery/
END:VEVENT
BEGIN:VEVENT
DTSTART;TZID=America/Toronto:20241023T110000
DTEND;TZID=America/Toronto:20241023T120000
DTSTAMP:20260423T213601
CREATED:20240914T160703Z
LAST-MODIFIED:20241003T165901Z
UID:10000238-1729681200-1729684800@www.stjamesunitedchurch.com
SUMMARY:Yoga
DESCRIPTION:Yoga Classes start on September 18th at 11am in the lounge! Instructors from Power Yoga Canada At Work will guide us through breathing\, stretching\, balance and exercise! These 1 hour classes are $20/class for drop-in\, OR save money by committing to the 7-week session which goes until the end of October\, and pay only $15/class ($105 in total\, which is like getting almost two classes free!). Payments can be made by etransfer to karen_forgrave@hotmail.com or on the first day of the yoga class by cash or cheque. This program benefits you and financially benefits St. James as well!
URL:https://www.stjamesunitedchurch.com/event/yoga-6/2024-10-23/
ATTACH;FMTTYPE=image/jpeg:https://www.stjamesunitedchurch.com/wordpress/wp-content/uploads/2023/05/Yoga.jpeg
END:VEVENT
BEGIN:VEVENT
DTSTART;TZID=America/Toronto:20241021T090000
DTEND;TZID=America/Toronto:20241021T093000
DTSTAMP:20260423T213601
CREATED:20241003T170650Z
LAST-MODIFIED:20241015T182505Z
UID:10000250-1729501200-1729503000@www.stjamesunitedchurch.com
SUMMARY:30 Days to Level Up
DESCRIPTION:“30 Days to Level Up” – is a program being run by Power Yoga Canada at Work. It is \na challenge that takes place between Oct. 21 and Nov. 19th. Work on seeing success as a daily practice \nand how to stick to your goals when life gets tricky. Daily 5-10 minute meditations delivered via email\, \nreflections questions\, and a WEEKLY in-person support meeting that would be held at St. James 4 \nSundays from approximately 12 – 1pm (will be finalized). Cost is $50. Contact \nkaren_forgrave@hotmail.com or yoga instructor Ashley for more information.
URL:https://www.stjamesunitedchurch.com/event/30-days-to-level-up/2024-10-21/
END:VEVENT
BEGIN:VEVENT
DTSTART;TZID=America/Toronto:20241018T190000
DTEND;TZID=America/Toronto:20241018T210000
DTSTAMP:20260423T213601
CREATED:20241014T174705Z
LAST-MODIFIED:20241015T181527Z
UID:10000113-1729278000-1729285200@www.stjamesunitedchurch.com
SUMMARY:Games Night - Halloween Scavenger Hunt
DESCRIPTION:🎃Remember Friday Oct. 18th at 7pm is our Family Fun Halloween Scavenger Hunt! \nMeet in the parking lot for 7pm sharp.  We will give out lists\, and you will have 30 minutes with your team to find as many things on the list as you can!!  Will you be able to find a house with a giant spider’s web?  What about a scarecrow?  Meet back together to share photos and laughs!  Friends are welcome!\n\nBRING:  A device to take photos (e.g.\, phone\, iPad)\, and dress for the weather!\n\n\nCan’t wait to see you!!\n\nFor those who wish to stay after the scavenger hunt\, we will continue with our “regular” Family Games Night inside with board games and card games until 9pm.\n\nAlso a reminder that the NEXT Saturday\, Oct. 26th is our Community Pumpkin Carving Party ($10/family gets you a large pumpkin to carve together – leave the mess with us\, and take home your Jack O’Lantern ready to go!)  Bingo and a craft for kids will also be available\, as well as some snacks for purchase.
URL:https://www.stjamesunitedchurch.com/event/games-night-halloween-scavenger-hunt/
ATTACH;FMTTYPE=image/png:https://www.stjamesunitedchurch.com/wordpress/wp-content/uploads/2024/10/SJ-Halloween.png
END:VEVENT
BEGIN:VEVENT
DTSTART;TZID=America/Toronto:20241016T110000
DTEND;TZID=America/Toronto:20241016T120000
DTSTAMP:20260423T213601
CREATED:20240914T160703Z
LAST-MODIFIED:20241003T165901Z
UID:10000237-1729076400-1729080000@www.stjamesunitedchurch.com
SUMMARY:Yoga
DESCRIPTION:Yoga Classes start on September 18th at 11am in the lounge! Instructors from Power Yoga Canada At Work will guide us through breathing\, stretching\, balance and exercise! These 1 hour classes are $20/class for drop-in\, OR save money by committing to the 7-week session which goes until the end of October\, and pay only $15/class ($105 in total\, which is like getting almost two classes free!). Payments can be made by etransfer to karen_forgrave@hotmail.com or on the first day of the yoga class by cash or cheque. This program benefits you and financially benefits St. James as well!
URL:https://www.stjamesunitedchurch.com/event/yoga-6/2024-10-16/
ATTACH;FMTTYPE=image/jpeg:https://www.stjamesunitedchurch.com/wordpress/wp-content/uploads/2023/05/Yoga.jpeg
END:VEVENT
BEGIN:VEVENT
DTSTART;TZID=America/Toronto:20241009T110000
DTEND;TZID=America/Toronto:20241009T120000
DTSTAMP:20260423T213602
CREATED:20240914T160703Z
LAST-MODIFIED:20241003T165901Z
UID:10000236-1728471600-1728475200@www.stjamesunitedchurch.com
SUMMARY:Yoga
DESCRIPTION:Yoga Classes start on September 18th at 11am in the lounge! Instructors from Power Yoga Canada At Work will guide us through breathing\, stretching\, balance and exercise! These 1 hour classes are $20/class for drop-in\, OR save money by committing to the 7-week session which goes until the end of October\, and pay only $15/class ($105 in total\, which is like getting almost two classes free!). Payments can be made by etransfer to karen_forgrave@hotmail.com or on the first day of the yoga class by cash or cheque. This program benefits you and financially benefits St. James as well!
URL:https://www.stjamesunitedchurch.com/event/yoga-6/2024-10-09/
ATTACH;FMTTYPE=image/jpeg:https://www.stjamesunitedchurch.com/wordpress/wp-content/uploads/2023/05/Yoga.jpeg
END:VEVENT
BEGIN:VEVENT
DTSTART;TZID=America/Toronto:20241002T110000
DTEND;TZID=America/Toronto:20241002T120000
DTSTAMP:20260423T213602
CREATED:20240914T160703Z
LAST-MODIFIED:20241003T165901Z
UID:10000235-1727866800-1727870400@www.stjamesunitedchurch.com
SUMMARY:Yoga
DESCRIPTION:Yoga Classes start on September 18th at 11am in the lounge! Instructors from Power Yoga Canada At Work will guide us through breathing\, stretching\, balance and exercise! These 1 hour classes are $20/class for drop-in\, OR save money by committing to the 7-week session which goes until the end of October\, and pay only $15/class ($105 in total\, which is like getting almost two classes free!). Payments can be made by etransfer to karen_forgrave@hotmail.com or on the first day of the yoga class by cash or cheque. This program benefits you and financially benefits St. James as well!
URL:https://www.stjamesunitedchurch.com/event/yoga-6/2024-10-02/
ATTACH;FMTTYPE=image/jpeg:https://www.stjamesunitedchurch.com/wordpress/wp-content/uploads/2023/05/Yoga.jpeg
END:VEVENT
BEGIN:VEVENT
DTSTART;TZID=America/Toronto:20240925T110000
DTEND;TZID=America/Toronto:20240925T120000
DTSTAMP:20260423T213602
CREATED:20240914T160703Z
LAST-MODIFIED:20241003T165901Z
UID:10000234-1727262000-1727265600@www.stjamesunitedchurch.com
SUMMARY:Yoga
DESCRIPTION:Yoga Classes start on September 18th at 11am in the lounge! Instructors from Power Yoga Canada At Work will guide us through breathing\, stretching\, balance and exercise! These 1 hour classes are $20/class for drop-in\, OR save money by committing to the 7-week session which goes until the end of October\, and pay only $15/class ($105 in total\, which is like getting almost two classes free!). Payments can be made by etransfer to karen_forgrave@hotmail.com or on the first day of the yoga class by cash or cheque. This program benefits you and financially benefits St. James as well!
URL:https://www.stjamesunitedchurch.com/event/yoga-6/2024-09-25/
ATTACH;FMTTYPE=image/jpeg:https://www.stjamesunitedchurch.com/wordpress/wp-content/uploads/2023/05/Yoga.jpeg
END:VEVENT
BEGIN:VEVENT
DTSTART;TZID=America/Toronto:20240918T110000
DTEND;TZID=America/Toronto:20240918T120000
DTSTAMP:20260423T213602
CREATED:20240914T160703Z
LAST-MODIFIED:20241003T165901Z
UID:10000233-1726657200-1726660800@www.stjamesunitedchurch.com
SUMMARY:Yoga
DESCRIPTION:Yoga Classes start on September 18th at 11am in the lounge! Instructors from Power Yoga Canada At Work will guide us through breathing\, stretching\, balance and exercise! These 1 hour classes are $20/class for drop-in\, OR save money by committing to the 7-week session which goes until the end of October\, and pay only $15/class ($105 in total\, which is like getting almost two classes free!). Payments can be made by etransfer to karen_forgrave@hotmail.com or on the first day of the yoga class by cash or cheque. This program benefits you and financially benefits St. James as well!
URL:https://www.stjamesunitedchurch.com/event/yoga-6/2024-09-18/
ATTACH;FMTTYPE=image/jpeg:https://www.stjamesunitedchurch.com/wordpress/wp-content/uploads/2023/05/Yoga.jpeg
END:VEVENT
BEGIN:VEVENT
DTSTART;TZID=America/Toronto:20240910T133000
DTEND;TZID=America/Toronto:20240910T153000
DTSTAMP:20260423T213602
CREATED:20240630T175214Z
LAST-MODIFIED:20240914T160857Z
UID:10000201-1725975000-1725982200@www.stjamesunitedchurch.com
SUMMARY:August Euchre
DESCRIPTION:Euchre will continue during the summer months\, July & August. Please let Eleanor Harris know if you wish to join. Cost is $5. We meet in the Lounge at 1:30p.m. every 2nd & 4th Tuesday. All are welcome. Here are the dates: July 9th & 23rd\, Aug 13th & 27th. Contact Eleanor at 416-234-1365 or email b_eharris@hotmail.com
URL:https://www.stjamesunitedchurch.com/event/august-euchre/2024-09-10/
ATTACH;FMTTYPE=image/png:https://www.stjamesunitedchurch.com/wordpress/wp-content/uploads/2022/11/Euchre-e1667768558861.png
END:VEVENT
BEGIN:VEVENT
DTSTART;TZID=America/Toronto:20240827T133000
DTEND;TZID=America/Toronto:20240827T153000
DTSTAMP:20260423T213602
CREATED:20240630T175214Z
LAST-MODIFIED:20240914T160857Z
UID:10000200-1724765400-1724772600@www.stjamesunitedchurch.com
SUMMARY:August Euchre
DESCRIPTION:Euchre will continue during the summer months\, July & August. Please let Eleanor Harris know if you wish to join. Cost is $5. We meet in the Lounge at 1:30p.m. every 2nd & 4th Tuesday. All are welcome. Here are the dates: July 9th & 23rd\, Aug 13th & 27th. Contact Eleanor at 416-234-1365 or email b_eharris@hotmail.com
URL:https://www.stjamesunitedchurch.com/event/august-euchre/2024-08-27/
ATTACH;FMTTYPE=image/png:https://www.stjamesunitedchurch.com/wordpress/wp-content/uploads/2022/11/Euchre-e1667768558861.png
END:VEVENT
BEGIN:VEVENT
DTSTART;TZID=America/Toronto:20240825T103000
DTEND;TZID=America/Toronto:20240825T113000
DTSTAMP:20260423T213602
CREATED:20240629T181251Z
LAST-MODIFIED:20240630T175911Z
UID:10000229-1724581800-1724585400@www.stjamesunitedchurch.com
SUMMARY:Summer church Services - Richview
DESCRIPTION:Summer Services Schedule:\n\n\nSt. James UC June 30\, July  7\, 14\, 21 \, 28 –  400 Burnhamthorpe Rd            https://www.stjamesunitedchurch.com/\nRichview UC Aug  4\, 11\, 18\, 26 –  149 Wellesworth Dr\,                                     http://richviewunitedchurch.org/
URL:https://www.stjamesunitedchurch.com/event/summer-church-services-richview-2/2024-08-25/
ATTACH;FMTTYPE=image/jpeg:https://www.stjamesunitedchurch.com/wordpress/wp-content/uploads/2023/05/Richview-e1685384722114.jpeg
END:VEVENT
BEGIN:VEVENT
DTSTART;TZID=America/Toronto:20240818T103000
DTEND;TZID=America/Toronto:20240818T113000
DTSTAMP:20260423T213602
CREATED:20240629T181251Z
LAST-MODIFIED:20240630T175911Z
UID:10000228-1723977000-1723980600@www.stjamesunitedchurch.com
SUMMARY:Summer church Services - Richview
DESCRIPTION:Summer Services Schedule:\n\n\nSt. James UC June 30\, July  7\, 14\, 21 \, 28 –  400 Burnhamthorpe Rd            https://www.stjamesunitedchurch.com/\nRichview UC Aug  4\, 11\, 18\, 26 –  149 Wellesworth Dr\,                                     http://richviewunitedchurch.org/
URL:https://www.stjamesunitedchurch.com/event/summer-church-services-richview-2/2024-08-18/
ATTACH;FMTTYPE=image/jpeg:https://www.stjamesunitedchurch.com/wordpress/wp-content/uploads/2023/05/Richview-e1685384722114.jpeg
END:VEVENT
BEGIN:VEVENT
DTSTART;TZID=America/Toronto:20240813T133000
DTEND;TZID=America/Toronto:20240813T153000
DTSTAMP:20260423T213602
CREATED:20240630T175214Z
LAST-MODIFIED:20240914T160857Z
UID:10000199-1723555800-1723563000@www.stjamesunitedchurch.com
SUMMARY:August Euchre
DESCRIPTION:Euchre will continue during the summer months\, July & August. Please let Eleanor Harris know if you wish to join. Cost is $5. We meet in the Lounge at 1:30p.m. every 2nd & 4th Tuesday. All are welcome. Here are the dates: July 9th & 23rd\, Aug 13th & 27th. Contact Eleanor at 416-234-1365 or email b_eharris@hotmail.com
URL:https://www.stjamesunitedchurch.com/event/august-euchre/2024-08-13/
ATTACH;FMTTYPE=image/png:https://www.stjamesunitedchurch.com/wordpress/wp-content/uploads/2022/11/Euchre-e1667768558861.png
END:VEVENT
BEGIN:VEVENT
DTSTART;TZID=America/Toronto:20240811T103000
DTEND;TZID=America/Toronto:20240811T113000
DTSTAMP:20260423T213602
CREATED:20240629T181251Z
LAST-MODIFIED:20240630T175911Z
UID:10000227-1723372200-1723375800@www.stjamesunitedchurch.com
SUMMARY:Summer church Services - Richview
DESCRIPTION:Summer Services Schedule:\n\n\nSt. James UC June 30\, July  7\, 14\, 21 \, 28 –  400 Burnhamthorpe Rd            https://www.stjamesunitedchurch.com/\nRichview UC Aug  4\, 11\, 18\, 26 –  149 Wellesworth Dr\,                                     http://richviewunitedchurch.org/
URL:https://www.stjamesunitedchurch.com/event/summer-church-services-richview-2/2024-08-11/
ATTACH;FMTTYPE=image/jpeg:https://www.stjamesunitedchurch.com/wordpress/wp-content/uploads/2023/05/Richview-e1685384722114.jpeg
END:VEVENT
BEGIN:VEVENT
DTSTART;TZID=America/Toronto:20240804T103000
DTEND;TZID=America/Toronto:20240804T113000
DTSTAMP:20260423T213602
CREATED:20240629T181251Z
LAST-MODIFIED:20240630T175911Z
UID:10000046-1722767400-1722771000@www.stjamesunitedchurch.com
SUMMARY:Summer church Services - Richview
DESCRIPTION:Summer Services Schedule:\n\n\nSt. James UC June 30\, July  7\, 14\, 21 \, 28 –  400 Burnhamthorpe Rd            https://www.stjamesunitedchurch.com/\nRichview UC Aug  4\, 11\, 18\, 26 –  149 Wellesworth Dr\,                                     http://richviewunitedchurch.org/
URL:https://www.stjamesunitedchurch.com/event/summer-church-services-richview-2/2024-08-04/
ATTACH;FMTTYPE=image/jpeg:https://www.stjamesunitedchurch.com/wordpress/wp-content/uploads/2023/05/Richview-e1685384722114.jpeg
END:VEVENT
BEGIN:VEVENT
DTSTART;TZID=America/Toronto:20240728T103000
DTEND;TZID=America/Toronto:20240728T113000
DTSTAMP:20260423T213602
CREATED:20240629T181653Z
LAST-MODIFIED:20240630T180620Z
UID:10000232-1722162600-1722166200@www.stjamesunitedchurch.com
SUMMARY:Summer Church service - St James UC
DESCRIPTION:Summer Services Schedule:\nSt. James UC June 30\, July  7\, 14\, 21 \, 28 –  400 Burnhamthorpe Rd            https://www.stjamesunitedchurch.com/\nRichview UC Aug  4\, 11\, 18\, 26 –  149 Wellesworth Dr\,                          http://richviewunitedchurch.org/
URL:https://www.stjamesunitedchurch.com/event/summer-church-service-st-james-uc-2/2024-07-28/
ATTACH;FMTTYPE=image/jpeg:https://www.stjamesunitedchurch.com/wordpress/wp-content/uploads/2021/08/his.jpg
END:VEVENT
BEGIN:VEVENT
DTSTART;TZID=America/Toronto:20240723T133000
DTEND;TZID=America/Toronto:20240723T153000
DTSTAMP:20260423T213602
CREATED:20240630T174929Z
LAST-MODIFIED:20240630T175253Z
UID:10000198-1721741400-1721748600@www.stjamesunitedchurch.com
SUMMARY:July Euchre
DESCRIPTION:Euchre will continue during the summer months\, July & August. Please let Eleanor Harris know if you wish to join. Cost is $5. We meet in the Lounge at 1:30p.m. every 2nd & 4th Tuesday. All are welcome. Here are the dates: July 9th & 23rd\, Aug 13th & 27th.  Contact Eleanor at 416-234-1365 or email at b_eharris@hotmail.com \n 
URL:https://www.stjamesunitedchurch.com/event/summer-euchre/2024-07-23/
ATTACH;FMTTYPE=image/png:https://www.stjamesunitedchurch.com/wordpress/wp-content/uploads/2022/11/Euchre-e1667768558861.png
END:VEVENT
BEGIN:VEVENT
DTSTART;TZID=America/Toronto:20240721T103000
DTEND;TZID=America/Toronto:20240721T113000
DTSTAMP:20260423T213602
CREATED:20240629T181653Z
LAST-MODIFIED:20240630T180620Z
UID:10000231-1721557800-1721561400@www.stjamesunitedchurch.com
SUMMARY:Summer Church service - St James UC
DESCRIPTION:Summer Services Schedule:\nSt. James UC June 30\, July  7\, 14\, 21 \, 28 –  400 Burnhamthorpe Rd            https://www.stjamesunitedchurch.com/\nRichview UC Aug  4\, 11\, 18\, 26 –  149 Wellesworth Dr\,                          http://richviewunitedchurch.org/
URL:https://www.stjamesunitedchurch.com/event/summer-church-service-st-james-uc-2/2024-07-21/
ATTACH;FMTTYPE=image/jpeg:https://www.stjamesunitedchurch.com/wordpress/wp-content/uploads/2021/08/his.jpg
END:VEVENT
BEGIN:VEVENT
DTSTART;TZID=America/Toronto:20240714T103000
DTEND;TZID=America/Toronto:20240714T113000
DTSTAMP:20260423T213602
CREATED:20240629T181653Z
LAST-MODIFIED:20240630T180620Z
UID:10000230-1720953000-1720956600@www.stjamesunitedchurch.com
SUMMARY:Summer Church service - St James UC
DESCRIPTION:Summer Services Schedule:\nSt. James UC June 30\, July  7\, 14\, 21 \, 28 –  400 Burnhamthorpe Rd            https://www.stjamesunitedchurch.com/\nRichview UC Aug  4\, 11\, 18\, 26 –  149 Wellesworth Dr\,                          http://richviewunitedchurch.org/
URL:https://www.stjamesunitedchurch.com/event/summer-church-service-st-james-uc-2/2024-07-14/
ATTACH;FMTTYPE=image/jpeg:https://www.stjamesunitedchurch.com/wordpress/wp-content/uploads/2021/08/his.jpg
END:VEVENT
BEGIN:VEVENT
DTSTART;TZID=America/Toronto:20240709T133000
DTEND;TZID=America/Toronto:20240709T153000
DTSTAMP:20260423T213602
CREATED:20240630T174929Z
LAST-MODIFIED:20240630T175253Z
UID:10000197-1720531800-1720539000@www.stjamesunitedchurch.com
SUMMARY:July Euchre
DESCRIPTION:Euchre will continue during the summer months\, July & August. Please let Eleanor Harris know if you wish to join. Cost is $5. We meet in the Lounge at 1:30p.m. every 2nd & 4th Tuesday. All are welcome. Here are the dates: July 9th & 23rd\, Aug 13th & 27th.  Contact Eleanor at 416-234-1365 or email at b_eharris@hotmail.com \n 
URL:https://www.stjamesunitedchurch.com/event/summer-euchre/2024-07-09/
ATTACH;FMTTYPE=image/png:https://www.stjamesunitedchurch.com/wordpress/wp-content/uploads/2022/11/Euchre-e1667768558861.png
END:VEVENT
BEGIN:VEVENT
DTSTART;TZID=America/Toronto:20240707T103000
DTEND;TZID=America/Toronto:20240707T113000
DTSTAMP:20260423T213602
CREATED:20240629T181653Z
LAST-MODIFIED:20240630T180620Z
UID:10000052-1720348200-1720351800@www.stjamesunitedchurch.com
SUMMARY:Summer Church service - St James UC
DESCRIPTION:Summer Services Schedule:\nSt. James UC June 30\, July  7\, 14\, 21 \, 28 –  400 Burnhamthorpe Rd            https://www.stjamesunitedchurch.com/\nRichview UC Aug  4\, 11\, 18\, 26 –  149 Wellesworth Dr\,                          http://richviewunitedchurch.org/
URL:https://www.stjamesunitedchurch.com/event/summer-church-service-st-james-uc-2/2024-07-07/
ATTACH;FMTTYPE=image/jpeg:https://www.stjamesunitedchurch.com/wordpress/wp-content/uploads/2021/08/his.jpg
END:VEVENT
BEGIN:VEVENT
DTSTART;TZID=America/Toronto:20240611T133000
DTEND;TZID=America/Toronto:20240611T160000
DTSTAMP:20260423T213602
CREATED:20231007T163041Z
LAST-MODIFIED:20240403T160948Z
UID:10000083-1718112600-1718121600@www.stjamesunitedchurch.com
SUMMARY:Afternoon Euchre
DESCRIPTION:Euchre at St James – Come join us on the the 2nd and 4th Tuesday of the month at 1:30 PM.  The cost is $5. If interested\, please call Eleanor Harris at 416-234-1365 or email at b_eharris@hotmail.com.  Don’t know how to play\, we will teach you. Everyone is welcome.
URL:https://www.stjamesunitedchurch.com/event/afternoon-euchre-2022-12-06-2-3-2-2/2024-06-11/
ATTACH;FMTTYPE=image/png:https://www.stjamesunitedchurch.com/wordpress/wp-content/uploads/2022/11/Euchre-e1667768558861.png
END:VEVENT
BEGIN:VEVENT
DTSTART;TZID=America/Toronto:20240609T113000
DTEND;TZID=America/Toronto:20240609T150000
DTSTAMP:20260423T213602
CREATED:20240529T192524Z
LAST-MODIFIED:20240529T192524Z
UID:10000196-1717932600-1717945200@www.stjamesunitedchurch.com
SUMMARY:Sunday School Picnic
DESCRIPTION:Picnic Ad 2024
URL:https://www.stjamesunitedchurch.com/event/sunday-school-picnic/
END:VEVENT
BEGIN:VEVENT
DTSTART;TZID=America/Toronto:20240528T133000
DTEND;TZID=America/Toronto:20240528T160000
DTSTAMP:20260423T213602
CREATED:20231007T163041Z
LAST-MODIFIED:20240403T160948Z
UID:10000082-1716903000-1716912000@www.stjamesunitedchurch.com
SUMMARY:Afternoon Euchre
DESCRIPTION:Euchre at St James – Come join us on the the 2nd and 4th Tuesday of the month at 1:30 PM.  The cost is $5. If interested\, please call Eleanor Harris at 416-234-1365 or email at b_eharris@hotmail.com.  Don’t know how to play\, we will teach you. Everyone is welcome.
URL:https://www.stjamesunitedchurch.com/event/afternoon-euchre-2022-12-06-2-3-2-2/2024-05-28/
ATTACH;FMTTYPE=image/png:https://www.stjamesunitedchurch.com/wordpress/wp-content/uploads/2022/11/Euchre-e1667768558861.png
END:VEVENT
BEGIN:VEVENT
DTSTART;TZID=America/Toronto:20240514T133000
DTEND;TZID=America/Toronto:20240514T160000
DTSTAMP:20260423T213602
CREATED:20231007T163041Z
LAST-MODIFIED:20240403T160948Z
UID:10000078-1715693400-1715702400@www.stjamesunitedchurch.com
SUMMARY:Afternoon Euchre
DESCRIPTION:Euchre at St James – Come join us on the the 2nd and 4th Tuesday of the month at 1:30 PM.  The cost is $5. If interested\, please call Eleanor Harris at 416-234-1365 or email at b_eharris@hotmail.com.  Don’t know how to play\, we will teach you. Everyone is welcome.
URL:https://www.stjamesunitedchurch.com/event/afternoon-euchre-2022-12-06-2-3-2-2/2024-05-14/
ATTACH;FMTTYPE=image/png:https://www.stjamesunitedchurch.com/wordpress/wp-content/uploads/2022/11/Euchre-e1667768558861.png
END:VEVENT
BEGIN:VEVENT
DTSTART;TZID=America/Toronto:20240505T120000
DTEND;TZID=America/Toronto:20240505T150000
DTSTAMP:20260423T213602
CREATED:20240415T204008Z
LAST-MODIFIED:20240415T210554Z
UID:10000134-1714910400-1714921200@www.stjamesunitedchurch.com
SUMMARY:Choir Fundaraiser
DESCRIPTION:The much anticipated St James Choir fundraiser\, Sounds of Spring\, is today  after the service.  A delicious catered lunch is served at 12PM  followed by the concert at 1PM. \n2024-05-05 SR Fundraiser Concert Poster
URL:https://www.stjamesunitedchurch.com/event/choir-fundaraiser/
END:VEVENT
BEGIN:VEVENT
DTSTART;TZID=America/Toronto:20240428T130000
DTEND;TZID=America/Toronto:20240428T183000
DTSTAMP:20260423T213602
CREATED:20240211T192600Z
LAST-MODIFIED:20240403T160508Z
UID:10000132-1714309200-1714329000@www.stjamesunitedchurch.com
SUMMARY:Reiki II training
DESCRIPTION:The last day of training. \nThe Training will: \n\n* deepen your understanding of how Reiki works\n* heighten your appreciation of the gift and power of Reiki\n* enable you to communicate with your own and others Higher Wisdom for healing\n* offer two attunements\n* provide opportunity for practice and support.
URL:https://www.stjamesunitedchurch.com/event/reiki-ii-training-3/
ATTACH;FMTTYPE=image/jpeg:https://www.stjamesunitedchurch.com/wordpress/wp-content/uploads/2021/11/Reiki-pic.jpg
END:VEVENT
END:VCALENDAR