BEGIN:VCALENDAR
VERSION:2.0
PRODID:-//St. James United Church - ECPv6.15.20//NONSGML v1.0//EN
CALSCALE:GREGORIAN
METHOD:PUBLISH
X-WR-CALNAME:St. James United Church
X-ORIGINAL-URL:https://www.stjamesunitedchurch.com
X-WR-CALDESC:Events for St. James United Church
REFRESH-INTERVAL;VALUE=DURATION:PT1H
X-Robots-Tag:noindex
X-PUBLISHED-TTL:PT1H
BEGIN:VTIMEZONE
TZID:America/Toronto
BEGIN:DAYLIGHT
TZOFFSETFROM:-0500
TZOFFSETTO:-0400
TZNAME:EDT
DTSTART:20220313T070000
END:DAYLIGHT
BEGIN:STANDARD
TZOFFSETFROM:-0400
TZOFFSETTO:-0500
TZNAME:EST
DTSTART:20221106T060000
END:STANDARD
BEGIN:DAYLIGHT
TZOFFSETFROM:-0500
TZOFFSETTO:-0400
TZNAME:EDT
DTSTART:20230312T070000
END:DAYLIGHT
BEGIN:STANDARD
TZOFFSETFROM:-0400
TZOFFSETTO:-0500
TZNAME:EST
DTSTART:20231105T060000
END:STANDARD
BEGIN:DAYLIGHT
TZOFFSETFROM:-0500
TZOFFSETTO:-0400
TZNAME:EDT
DTSTART:20240310T070000
END:DAYLIGHT
BEGIN:STANDARD
TZOFFSETFROM:-0400
TZOFFSETTO:-0500
TZNAME:EST
DTSTART:20241103T060000
END:STANDARD
END:VTIMEZONE
BEGIN:VEVENT
DTSTART;TZID=America/Toronto:20230531T104000
DTEND;TZID=America/Toronto:20230531T114000
DTSTAMP:20260421T144620
CREATED:20230526T150158Z
LAST-MODIFIED:20230526T150158Z
UID:10000038-1685529600-1685533200@www.stjamesunitedchurch.com
SUMMARY:Yoga
DESCRIPTION:Yoga will be continuing in the lounge on Wednesdays from 10:40 – 11:40am.  If you wish to sign up for the FINAL 4-week yoga session before the summer (May 31 – June 21st)\, you can save money by paying $60 in advance by etransfer to karen_forgrave@hotmail.com (payable up until May 31st).  Otherwise\, all are welcome to participate as you are able by dropping in ($20 per class for drop-in attendees).
URL:https://www.stjamesunitedchurch.com/event/yoga/2023-05-31/
ATTACH;FMTTYPE=image/jpeg:https://www.stjamesunitedchurch.com/wordpress/wp-content/uploads/2023/05/Yoga.jpeg
END:VEVENT
BEGIN:VEVENT
DTSTART;TZID=America/Toronto:20230303T133000
DTEND;TZID=America/Toronto:20230303T160000
DTSTAMP:20260421T144620
CREATED:20230223T211408Z
LAST-MODIFIED:20230227T021435Z
UID:10000007-1677850200-1677859200@www.stjamesunitedchurch.com
SUMMARY:World Day of Prayer
DESCRIPTION:Save the Date and time! On Saturday\, March 3rd\, 2023 at 1:30 PM \nWorld Day of Preyer
URL:https://www.stjamesunitedchurch.com/event/world-day-of-prayer-on-zoom/
ATTACH;FMTTYPE=image/jpeg:https://www.stjamesunitedchurch.com/wordpress/wp-content/uploads/2022/02/WorldDayOfPrayer.jpeg
END:VEVENT
END:VCALENDAR