BEGIN:VCALENDAR
VERSION:2.0
PRODID:-//St. James United Church - ECPv6.15.20//NONSGML v1.0//EN
CALSCALE:GREGORIAN
METHOD:PUBLISH
X-WR-CALNAME:St. James United Church
X-ORIGINAL-URL:https://www.stjamesunitedchurch.com
X-WR-CALDESC:Events for St. James United Church
REFRESH-INTERVAL;VALUE=DURATION:PT1H
X-Robots-Tag:noindex
X-PUBLISHED-TTL:PT1H
BEGIN:VTIMEZONE
TZID:America/Toronto
BEGIN:DAYLIGHT
TZOFFSETFROM:-0500
TZOFFSETTO:-0400
TZNAME:EDT
DTSTART:20230312T070000
END:DAYLIGHT
BEGIN:STANDARD
TZOFFSETFROM:-0400
TZOFFSETTO:-0500
TZNAME:EST
DTSTART:20231105T060000
END:STANDARD
BEGIN:DAYLIGHT
TZOFFSETFROM:-0500
TZOFFSETTO:-0400
TZNAME:EDT
DTSTART:20240310T070000
END:DAYLIGHT
BEGIN:STANDARD
TZOFFSETFROM:-0400
TZOFFSETTO:-0500
TZNAME:EST
DTSTART:20241103T060000
END:STANDARD
BEGIN:DAYLIGHT
TZOFFSETFROM:-0500
TZOFFSETTO:-0400
TZNAME:EDT
DTSTART:20250309T070000
END:DAYLIGHT
BEGIN:STANDARD
TZOFFSETFROM:-0400
TZOFFSETTO:-0500
TZNAME:EST
DTSTART:20251102T060000
END:STANDARD
BEGIN:DAYLIGHT
TZOFFSETFROM:-0500
TZOFFSETTO:-0400
TZNAME:EDT
DTSTART:20260308T070000
END:DAYLIGHT
BEGIN:STANDARD
TZOFFSETFROM:-0400
TZOFFSETTO:-0500
TZNAME:EST
DTSTART:20261101T060000
END:STANDARD
END:VTIMEZONE
BEGIN:VEVENT
DTSTART;TZID=America/Toronto:20241018T190000
DTEND;TZID=America/Toronto:20241018T210000
DTSTAMP:20260421T085539
CREATED:20241014T174705Z
LAST-MODIFIED:20241015T181527Z
UID:10000113-1729278000-1729285200@www.stjamesunitedchurch.com
SUMMARY:Games Night - Halloween Scavenger Hunt
DESCRIPTION:🎃Remember Friday Oct. 18th at 7pm is our Family Fun Halloween Scavenger Hunt! \nMeet in the parking lot for 7pm sharp.  We will give out lists\, and you will have 30 minutes with your team to find as many things on the list as you can!!  Will you be able to find a house with a giant spider’s web?  What about a scarecrow?  Meet back together to share photos and laughs!  Friends are welcome!\n\nBRING:  A device to take photos (e.g.\, phone\, iPad)\, and dress for the weather!\n\n\nCan’t wait to see you!!\n\nFor those who wish to stay after the scavenger hunt\, we will continue with our “regular” Family Games Night inside with board games and card games until 9pm.\n\nAlso a reminder that the NEXT Saturday\, Oct. 26th is our Community Pumpkin Carving Party ($10/family gets you a large pumpkin to carve together – leave the mess with us\, and take home your Jack O’Lantern ready to go!)  Bingo and a craft for kids will also be available\, as well as some snacks for purchase.
URL:https://www.stjamesunitedchurch.com/event/games-night-halloween-scavenger-hunt/
ATTACH;FMTTYPE=image/png:https://www.stjamesunitedchurch.com/wordpress/wp-content/uploads/2024/10/SJ-Halloween.png
END:VEVENT
BEGIN:VEVENT
DTSTART;TZID=America/Toronto:20241021T090000
DTEND;TZID=America/Toronto:20241021T093000
DTSTAMP:20260421T085539
CREATED:20241003T170650Z
LAST-MODIFIED:20241015T182505Z
UID:10000250-1729501200-1729503000@www.stjamesunitedchurch.com
SUMMARY:30 Days to Level Up
DESCRIPTION:“30 Days to Level Up” – is a program being run by Power Yoga Canada at Work. It is \na challenge that takes place between Oct. 21 and Nov. 19th. Work on seeing success as a daily practice \nand how to stick to your goals when life gets tricky. Daily 5-10 minute meditations delivered via email\, \nreflections questions\, and a WEEKLY in-person support meeting that would be held at St. James 4 \nSundays from approximately 12 – 1pm (will be finalized). Cost is $50. Contact \nkaren_forgrave@hotmail.com or yoga instructor Ashley for more information.
URL:https://www.stjamesunitedchurch.com/event/30-days-to-level-up/2024-10-21/
END:VEVENT
BEGIN:VEVENT
DTSTART;TZID=America/Toronto:20241023T110000
DTEND;TZID=America/Toronto:20241023T120000
DTSTAMP:20260421T085539
CREATED:20240914T160703Z
LAST-MODIFIED:20241003T165901Z
UID:10000238-1729681200-1729684800@www.stjamesunitedchurch.com
SUMMARY:Yoga
DESCRIPTION:Yoga Classes start on September 18th at 11am in the lounge! Instructors from Power Yoga Canada At Work will guide us through breathing\, stretching\, balance and exercise! These 1 hour classes are $20/class for drop-in\, OR save money by committing to the 7-week session which goes until the end of October\, and pay only $15/class ($105 in total\, which is like getting almost two classes free!). Payments can be made by etransfer to karen_forgrave@hotmail.com or on the first day of the yoga class by cash or cheque. This program benefits you and financially benefits St. James as well!
URL:https://www.stjamesunitedchurch.com/event/yoga-6/2024-10-23/
ATTACH;FMTTYPE=image/jpeg:https://www.stjamesunitedchurch.com/wordpress/wp-content/uploads/2023/05/Yoga.jpeg
END:VEVENT
BEGIN:VEVENT
DTSTART;TZID=America/Toronto:20241026T130000
DTEND;TZID=America/Toronto:20241026T150000
DTSTAMP:20260421T085539
CREATED:20240914T164619Z
LAST-MODIFIED:20241005T155212Z
UID:10000249-1729947600-1729954800@www.stjamesunitedchurch.com
SUMMARY:Gold Party Princess - Jewellery
DESCRIPTION:Louise\, the “Gold Party Princess” is back! She is coming Saturday\, October 26th from 1- 3pm. Contact Karen Forgrave to reserve your spot. Louise will give you cash for your gold\, platinum or silver items and the church gets an additional 10% of whatever is brought in that day. If you have estate items you are clearing out\, odd gold earrings or gold tooth fillings that are being removed\, please save them for Oct. 26! \n2024 Gold Fundraiser Poster
URL:https://www.stjamesunitedchurch.com/event/gold-party-princess-jewellery/
END:VEVENT
BEGIN:VEVENT
DTSTART;TZID=America/Toronto:20241026T183000
DTEND;TZID=America/Toronto:20241026T200000
DTSTAMP:20260421T085539
CREATED:20241003T171029Z
LAST-MODIFIED:20241005T152155Z
UID:10000648-1729967400-1729972800@www.stjamesunitedchurch.com
SUMMARY:Pumpkin Carving
DESCRIPTION:Saturday\, October 26th:  6:30 – 8:00pm – Community Pumpkin Carving Party hosted at St. James! 🎃 We will supply the pumpkin\, the tools for carving\, and you can leave the mess here\, and go home with your pumpkin ready for Halloween!  Cost is $10 per family for 1 pumpkin\, additional pumpkins may be available to purchase if requried.  Costumes encouraged!  Spread the word to neighbours with young children!\n\nHaloween Pumpkin Carving Poster\n 
URL:https://www.stjamesunitedchurch.com/event/pumpkin-carving/
END:VEVENT
BEGIN:VEVENT
DTSTART;TZID=America/Toronto:20241027T103000
DTEND;TZID=America/Toronto:20241027T113000
DTSTAMP:20260421T085539
CREATED:20241003T170837Z
LAST-MODIFIED:20241003T170837Z
UID:10000647-1730025000-1730028600@www.stjamesunitedchurch.com
SUMMARY:All Saints Day
DESCRIPTION:All Saints Day / Spirit Sunday Dress-Up Day is Sunday\, October 27th.  Dress as a person\, animal or event from the Bible! Be ready to give clues about your character (are you from the Old Testament or New Testament?  What are you known for?).  Rev Richard will make a guess after clues are given during circle time!  Be creative!  We can’t wait to see your outfit!
URL:https://www.stjamesunitedchurch.com/event/all-saints-day/
END:VEVENT
BEGIN:VEVENT
DTSTART;TZID=America/Toronto:20241030T110000
DTEND;TZID=America/Toronto:20241030T120000
DTSTAMP:20260421T085539
CREATED:20240914T160703Z
LAST-MODIFIED:20241003T165901Z
UID:10000239-1730286000-1730289600@www.stjamesunitedchurch.com
SUMMARY:Yoga
DESCRIPTION:Yoga Classes start on September 18th at 11am in the lounge! Instructors from Power Yoga Canada At Work will guide us through breathing\, stretching\, balance and exercise! These 1 hour classes are $20/class for drop-in\, OR save money by committing to the 7-week session which goes until the end of October\, and pay only $15/class ($105 in total\, which is like getting almost two classes free!). Payments can be made by etransfer to karen_forgrave@hotmail.com or on the first day of the yoga class by cash or cheque. This program benefits you and financially benefits St. James as well!
URL:https://www.stjamesunitedchurch.com/event/yoga-6/2024-10-30/
ATTACH;FMTTYPE=image/jpeg:https://www.stjamesunitedchurch.com/wordpress/wp-content/uploads/2023/05/Yoga.jpeg
END:VEVENT
BEGIN:VEVENT
DTSTART;TZID=America/Toronto:20241030T190000
DTEND;TZID=America/Toronto:20241030T210000
DTSTAMP:20260421T085539
CREATED:20241003T171419Z
LAST-MODIFIED:20241003T172141Z
UID:10000649-1730314800-1730322000@www.stjamesunitedchurch.com
SUMMARY:United Church Youth (Grade 7 - 12)
DESCRIPTION:United Church Youth Group (Grade 7-12)- our next event is a Murder Mystery on Wednesday October 30th\, at Islington United Church \nyouth-grou-pevents-2024-2025
URL:https://www.stjamesunitedchurch.com/event/united-church-youth-grade-7-12/
END:VEVENT
BEGIN:VEVENT
DTSTART;TZID=America/Toronto:20241109T150000
DTEND;TZID=America/Toronto:20241109T210000
DTSTAMP:20260421T085539
CREATED:20240630T154157Z
LAST-MODIFIED:20241003T165156Z
UID:10000116-1731164400-1731186000@www.stjamesunitedchurch.com
SUMMARY:Fundraising dinner & Auction
DESCRIPTION:The Dinner and Live Auction Event is coming this November 9th. Right now\, we are looking for people who can volunteer to write donation request letters to companies and organizations (e.g.\, Woodbine Fantasy Fair\, Brunos\, Maple Leaf Sports\, LEGO online charity\, Loblaws East Mall\, etc.). Please look at the list on the hall table and sign up! Sample letters are available. If you have any questions\, please contact Marie Truelove or Karen Forgrave. \n  \n2024 auction poster from news from the pews
URL:https://www.stjamesunitedchurch.com/event/fundraising-dinner-auction/
ATTACH;FMTTYPE=image/jpeg:https://www.stjamesunitedchurch.com/wordpress/wp-content/uploads/2023/04/Silentlive-auction.jpg
END:VEVENT
BEGIN:VEVENT
DTSTART;TZID=America/Toronto:20241218T190000
DTEND;TZID=America/Toronto:20241218T200000
DTSTAMP:20260421T085539
CREATED:20241217T162607Z
LAST-MODIFIED:20241217T162607Z
UID:10000650-1734548400-1734552000@www.stjamesunitedchurch.com
SUMMARY:Life after high school
DESCRIPTION:Wed. Dec. 18th 7-8pm – “Life After High School” event for high school students and their families.  Come and hear from Sunday School alumni who are currently in university or college programs.  We will hear what the adjustment from high school is like\, what extra-curriculars are offered\, and look at the highlights of programs at different universities.  We currently have representatives coming from York University\, Ivey Business School at Western\, Waterloo\, TMU and Humber! \nNavigating Life After High School
URL:https://www.stjamesunitedchurch.com/event/life-after-high-school/
END:VEVENT
BEGIN:VEVENT
DTSTART;TZID=America/Toronto:20241222T103000
DTEND;TZID=America/Toronto:20241222T113000
DTSTAMP:20260421T085539
CREATED:20241217T150103Z
LAST-MODIFIED:20241217T164036Z
UID:10000004-1734863400-1734867000@www.stjamesunitedchurch.com
SUMMARY:Advent 4 - Love
DESCRIPTION:December 22\, 2024 is Advent 4 Sunday (LOVE). 
URL:https://www.stjamesunitedchurch.com/event/advent-4-love/
ATTACH;FMTTYPE=image/png:https://www.stjamesunitedchurch.com/wordpress/wp-content/uploads/2021/11/advent-candles.png
END:VEVENT
BEGIN:VEVENT
DTSTART;TZID=America/Toronto:20241222T103000
DTEND;TZID=America/Toronto:20241222T113000
DTSTAMP:20260421T085539
CREATED:20241217T163308Z
LAST-MODIFIED:20241217T163308Z
UID:10000651-1734863400-1734867000@www.stjamesunitedchurch.com
SUMMARY:Bring a friend
DESCRIPTION:Bring a friend to church to show what we have to offer.
URL:https://www.stjamesunitedchurch.com/event/bring-a-friend/
END:VEVENT
BEGIN:VEVENT
DTSTART;TZID=America/Toronto:20241224T193000
DTEND;TZID=America/Toronto:20241224T193000
DTSTAMP:20260421T085539
CREATED:20241217T152221Z
LAST-MODIFIED:20241217T163655Z
UID:10000002-1735068600-1735068600@www.stjamesunitedchurch.com
SUMMARY:Christmas Eve service
DESCRIPTION:Sunday\, December 24\, 2024 is Christmas Eve family service Carols and Communion Service will be at 7:30PM \nChristmas Eve Service and Pinata on Dec. 24th at 7:30pm.
URL:https://www.stjamesunitedchurch.com/event/christmas-eve-service/
ATTACH;FMTTYPE=image/webp:https://www.stjamesunitedchurch.com/wordpress/wp-content/uploads/2021/11/christmas-nativity.webp
END:VEVENT
BEGIN:VEVENT
DTSTART;TZID=America/Toronto:20250108T110000
DTEND;TZID=America/Toronto:20250108T120000
DTSTAMP:20260421T085539
CREATED:20250104T191417Z
LAST-MODIFIED:20250105T183946Z
UID:10000656-1736334000-1736337600@www.stjamesunitedchurch.com
SUMMARY:Yoga
DESCRIPTION:Yoga Classes start on January 8th at 11am in the Lounge!  Instructors from Power Yoga Canada At Work will guide us through breathing\, stretching\, balance and exercise!  These 1 hour classes are $20/class for drop-in\, OR save money by committing to the 8-week session which goes until the end of February\, and pay only $15/class ($120 in total). Payments can be made by etransfer to karen_forgrave@hotmail.com or on the first day of the yoga class by cash or cheque.  This program benefits you and financially benefits St. James as well! \n  \n  \n 
URL:https://www.stjamesunitedchurch.com/event/yoga-4/2025-01-08/
ATTACH;FMTTYPE=image/jpeg:https://www.stjamesunitedchurch.com/wordpress/wp-content/uploads/2025/01/Yoga-2025.jpg
END:VEVENT
BEGIN:VEVENT
DTSTART;TZID=America/Toronto:20250112T103000
DTEND;TZID=America/Toronto:20250112T113000
DTSTAMP:20260421T085539
CREATED:20241231T173945Z
LAST-MODIFIED:20241231T173945Z
UID:10000655-1736677800-1736681400@www.stjamesunitedchurch.com
SUMMARY:Sunday School starts
DESCRIPTION:Sunday School starts again on January 12th 2025 at 10:30am
URL:https://www.stjamesunitedchurch.com/event/sunday-school-starts/
END:VEVENT
BEGIN:VEVENT
DTSTART;TZID=America/Toronto:20250115T110000
DTEND;TZID=America/Toronto:20250115T120000
DTSTAMP:20260421T085539
CREATED:20250104T191417Z
LAST-MODIFIED:20250105T183946Z
UID:10000657-1736938800-1736942400@www.stjamesunitedchurch.com
SUMMARY:Yoga
DESCRIPTION:Yoga Classes start on January 8th at 11am in the Lounge!  Instructors from Power Yoga Canada At Work will guide us through breathing\, stretching\, balance and exercise!  These 1 hour classes are $20/class for drop-in\, OR save money by committing to the 8-week session which goes until the end of February\, and pay only $15/class ($120 in total). Payments can be made by etransfer to karen_forgrave@hotmail.com or on the first day of the yoga class by cash or cheque.  This program benefits you and financially benefits St. James as well! \n  \n  \n 
URL:https://www.stjamesunitedchurch.com/event/yoga-4/2025-01-15/
ATTACH;FMTTYPE=image/jpeg:https://www.stjamesunitedchurch.com/wordpress/wp-content/uploads/2025/01/Yoga-2025.jpg
END:VEVENT
BEGIN:VEVENT
DTSTART;TZID=America/Toronto:20250122T110000
DTEND;TZID=America/Toronto:20250122T120000
DTSTAMP:20260421T085539
CREATED:20250104T191417Z
LAST-MODIFIED:20250105T183946Z
UID:10000658-1737543600-1737547200@www.stjamesunitedchurch.com
SUMMARY:Yoga
DESCRIPTION:Yoga Classes start on January 8th at 11am in the Lounge!  Instructors from Power Yoga Canada At Work will guide us through breathing\, stretching\, balance and exercise!  These 1 hour classes are $20/class for drop-in\, OR save money by committing to the 8-week session which goes until the end of February\, and pay only $15/class ($120 in total). Payments can be made by etransfer to karen_forgrave@hotmail.com or on the first day of the yoga class by cash or cheque.  This program benefits you and financially benefits St. James as well! \n  \n  \n 
URL:https://www.stjamesunitedchurch.com/event/yoga-4/2025-01-22/
ATTACH;FMTTYPE=image/jpeg:https://www.stjamesunitedchurch.com/wordpress/wp-content/uploads/2025/01/Yoga-2025.jpg
END:VEVENT
BEGIN:VEVENT
DTSTART;TZID=America/Toronto:20250124T190000
DTEND;TZID=America/Toronto:20250124T210000
DTSTAMP:20260421T085539
CREATED:20241231T155245Z
LAST-MODIFIED:20250105T184521Z
UID:10000129-1737745200-1737752400@www.stjamesunitedchurch.com
SUMMARY:Family Games Night
DESCRIPTION:Come out and join the Friday Family games night\nFriday\, January 24th from 7 – 9pm.  Free family fun for all ages!\nThey will continue on the 4th Friday of each month:\nJan. 24th\, Feb. 28th\, March 28th\, April 25th
URL:https://www.stjamesunitedchurch.com/event/games-night-2/2025-01-24/
ATTACH;FMTTYPE=application/pdf:https://www.stjamesunitedchurch.com/wordpress/wp-content/uploads/2023/04/2025-fall-games-night.pdf
END:VEVENT
BEGIN:VEVENT
DTSTART;TZID=America/Toronto:20250129T110000
DTEND;TZID=America/Toronto:20250129T120000
DTSTAMP:20260421T085539
CREATED:20250104T191417Z
LAST-MODIFIED:20250105T183946Z
UID:10000659-1738148400-1738152000@www.stjamesunitedchurch.com
SUMMARY:Yoga
DESCRIPTION:Yoga Classes start on January 8th at 11am in the Lounge!  Instructors from Power Yoga Canada At Work will guide us through breathing\, stretching\, balance and exercise!  These 1 hour classes are $20/class for drop-in\, OR save money by committing to the 8-week session which goes until the end of February\, and pay only $15/class ($120 in total). Payments can be made by etransfer to karen_forgrave@hotmail.com or on the first day of the yoga class by cash or cheque.  This program benefits you and financially benefits St. James as well! \n  \n  \n 
URL:https://www.stjamesunitedchurch.com/event/yoga-4/2025-01-29/
ATTACH;FMTTYPE=image/jpeg:https://www.stjamesunitedchurch.com/wordpress/wp-content/uploads/2025/01/Yoga-2025.jpg
END:VEVENT
BEGIN:VEVENT
DTSTART;TZID=America/Toronto:20250205T110000
DTEND;TZID=America/Toronto:20250205T120000
DTSTAMP:20260421T085539
CREATED:20250104T191417Z
LAST-MODIFIED:20250105T183946Z
UID:10000660-1738753200-1738756800@www.stjamesunitedchurch.com
SUMMARY:Yoga
DESCRIPTION:Yoga Classes start on January 8th at 11am in the Lounge!  Instructors from Power Yoga Canada At Work will guide us through breathing\, stretching\, balance and exercise!  These 1 hour classes are $20/class for drop-in\, OR save money by committing to the 8-week session which goes until the end of February\, and pay only $15/class ($120 in total). Payments can be made by etransfer to karen_forgrave@hotmail.com or on the first day of the yoga class by cash or cheque.  This program benefits you and financially benefits St. James as well! \n  \n  \n 
URL:https://www.stjamesunitedchurch.com/event/yoga-4/2025-02-05/
ATTACH;FMTTYPE=image/jpeg:https://www.stjamesunitedchurch.com/wordpress/wp-content/uploads/2025/01/Yoga-2025.jpg
END:VEVENT
BEGIN:VEVENT
DTSTART;TZID=America/Toronto:20250212T110000
DTEND;TZID=America/Toronto:20250212T120000
DTSTAMP:20260421T085539
CREATED:20250104T191417Z
LAST-MODIFIED:20250105T183946Z
UID:10000661-1739358000-1739361600@www.stjamesunitedchurch.com
SUMMARY:Yoga
DESCRIPTION:Yoga Classes start on January 8th at 11am in the Lounge!  Instructors from Power Yoga Canada At Work will guide us through breathing\, stretching\, balance and exercise!  These 1 hour classes are $20/class for drop-in\, OR save money by committing to the 8-week session which goes until the end of February\, and pay only $15/class ($120 in total). Payments can be made by etransfer to karen_forgrave@hotmail.com or on the first day of the yoga class by cash or cheque.  This program benefits you and financially benefits St. James as well! \n  \n  \n 
URL:https://www.stjamesunitedchurch.com/event/yoga-4/2025-02-12/
ATTACH;FMTTYPE=image/jpeg:https://www.stjamesunitedchurch.com/wordpress/wp-content/uploads/2025/01/Yoga-2025.jpg
END:VEVENT
BEGIN:VEVENT
DTSTART;TZID=America/Toronto:20250216T103000
DTEND;TZID=America/Toronto:20250216T113000
DTSTAMP:20260421T085539
CREATED:20250216T011950Z
LAST-MODIFIED:20250216T011950Z
UID:10000665-1739701800-1739705400@www.stjamesunitedchurch.com
SUMMARY:Sunday Service Cancelled Feb 16/25
DESCRIPTION:Due to the weather\, our worship service tomorrow\, Sunday\, February 16\, 2025\, is CANCELLED. St. James United Church will be CLOSED. 
URL:https://www.stjamesunitedchurch.com/event/sunday-service-cancelled-feb-16-25/
END:VEVENT
BEGIN:VEVENT
DTSTART;TZID=America/Toronto:20250216T123000
DTEND;TZID=America/Toronto:20250216T140000
DTSTAMP:20260421T085539
CREATED:20250216T012250Z
LAST-MODIFIED:20250216T012250Z
UID:10000666-1739709000-1739714400@www.stjamesunitedchurch.com
SUMMARY:Unified Board Meeting on Zoom
DESCRIPTION:The Unified Board will still meet tomorrow\, Sunday\, February 16\, over Zoom at 12:30 p.m.\n\nHere is the information for the meeting:\n\n\n\n The meeting agenda was sent via email. \nTopic: Unified Board \nTime: Feb 16\, 2025 12:30 PM Eastern Time \n  \nJoin Zoom Meeting \nhttps://us02web.zoom.us/j/81478748642?pwd=Fh2pRQwxQj7KgrYHhNOMdOh3PVVrn1.1 \n  \nMeeting ID: 814 7874 8642 \nPasscode: 674366
URL:https://www.stjamesunitedchurch.com/event/unified-board-meeting-on-zoom/
END:VEVENT
BEGIN:VEVENT
DTSTART;TZID=America/Toronto:20250219T110000
DTEND;TZID=America/Toronto:20250219T120000
DTSTAMP:20260421T085539
CREATED:20250104T191417Z
LAST-MODIFIED:20250105T183946Z
UID:10000662-1739962800-1739966400@www.stjamesunitedchurch.com
SUMMARY:Yoga
DESCRIPTION:Yoga Classes start on January 8th at 11am in the Lounge!  Instructors from Power Yoga Canada At Work will guide us through breathing\, stretching\, balance and exercise!  These 1 hour classes are $20/class for drop-in\, OR save money by committing to the 8-week session which goes until the end of February\, and pay only $15/class ($120 in total). Payments can be made by etransfer to karen_forgrave@hotmail.com or on the first day of the yoga class by cash or cheque.  This program benefits you and financially benefits St. James as well! \n  \n  \n 
URL:https://www.stjamesunitedchurch.com/event/yoga-4/2025-02-19/
ATTACH;FMTTYPE=image/jpeg:https://www.stjamesunitedchurch.com/wordpress/wp-content/uploads/2025/01/Yoga-2025.jpg
END:VEVENT
BEGIN:VEVENT
DTSTART;TZID=America/Toronto:20250221T190000
DTEND;TZID=America/Toronto:20250221T210000
DTSTAMP:20260421T085539
CREATED:20250213T193934Z
LAST-MODIFIED:20250213T194039Z
UID:10000664-1740164400-1740171600@www.stjamesunitedchurch.com
SUMMARY:Movie Night
DESCRIPTION:The CD Committee presents: Movie Night for Black Heritage Month:  The Queen of Katwe. Friday\, Feb. 21st from 7pm – 9pm in the Lounge.  Free will donation\, popcorn and drinks will be served.  The movie talks about the true story of how learning chess changed the life of Phiona\, a young girl from the slums of Katwe\, Uganda\, as she broke stereotypes by becoming a globally-renowned chess player who was not white and male. \n 
URL:https://www.stjamesunitedchurch.com/event/movie-night/
ATTACH;FMTTYPE=image/jpeg:https://www.stjamesunitedchurch.com/wordpress/wp-content/uploads/2025/02/cinema-time-with-popcorn_23-2148470143.jpg
END:VEVENT
BEGIN:VEVENT
DTSTART;TZID=America/Toronto:20250226T110000
DTEND;TZID=America/Toronto:20250226T120000
DTSTAMP:20260421T085539
CREATED:20250104T191417Z
LAST-MODIFIED:20250105T183946Z
UID:10000663-1740567600-1740571200@www.stjamesunitedchurch.com
SUMMARY:Yoga
DESCRIPTION:Yoga Classes start on January 8th at 11am in the Lounge!  Instructors from Power Yoga Canada At Work will guide us through breathing\, stretching\, balance and exercise!  These 1 hour classes are $20/class for drop-in\, OR save money by committing to the 8-week session which goes until the end of February\, and pay only $15/class ($120 in total). Payments can be made by etransfer to karen_forgrave@hotmail.com or on the first day of the yoga class by cash or cheque.  This program benefits you and financially benefits St. James as well! \n  \n  \n 
URL:https://www.stjamesunitedchurch.com/event/yoga-4/2025-02-26/
ATTACH;FMTTYPE=image/jpeg:https://www.stjamesunitedchurch.com/wordpress/wp-content/uploads/2025/01/Yoga-2025.jpg
END:VEVENT
BEGIN:VEVENT
DTSTART;TZID=America/Toronto:20250228T190000
DTEND;TZID=America/Toronto:20250228T210000
DTSTAMP:20260421T085539
CREATED:20241231T155245Z
LAST-MODIFIED:20250105T184521Z
UID:10000652-1740769200-1740776400@www.stjamesunitedchurch.com
SUMMARY:Family Games Night
DESCRIPTION:Come out and join the Friday Family games night\nFriday\, January 24th from 7 – 9pm.  Free family fun for all ages!\nThey will continue on the 4th Friday of each month:\nJan. 24th\, Feb. 28th\, March 28th\, April 25th
URL:https://www.stjamesunitedchurch.com/event/games-night-2/2025-02-28/
ATTACH;FMTTYPE=application/pdf:https://www.stjamesunitedchurch.com/wordpress/wp-content/uploads/2023/04/2025-fall-games-night.pdf
END:VEVENT
BEGIN:VEVENT
DTSTART;TZID=America/Toronto:20250328T190000
DTEND;TZID=America/Toronto:20250328T210000
DTSTAMP:20260421T085539
CREATED:20241231T155245Z
LAST-MODIFIED:20250105T184521Z
UID:10000653-1743188400-1743195600@www.stjamesunitedchurch.com
SUMMARY:Family Games Night
DESCRIPTION:Come out and join the Friday Family games night\nFriday\, January 24th from 7 – 9pm.  Free family fun for all ages!\nThey will continue on the 4th Friday of each month:\nJan. 24th\, Feb. 28th\, March 28th\, April 25th
URL:https://www.stjamesunitedchurch.com/event/games-night-2/2025-03-28/
ATTACH;FMTTYPE=application/pdf:https://www.stjamesunitedchurch.com/wordpress/wp-content/uploads/2023/04/2025-fall-games-night.pdf
END:VEVENT
BEGIN:VEVENT
DTSTART;TZID=America/Toronto:20250412T090000
DTEND;TZID=America/Toronto:20250412T130000
DTSTAMP:20260421T085539
CREATED:20250213T161246Z
LAST-MODIFIED:20250213T223933Z
UID:10000001-1744448400-1744462800@www.stjamesunitedchurch.com
SUMMARY:Browse & Buy
DESCRIPTION:Please start saving items for Browse and Buy.  You can drop off books in the Lounge now!  Please mark the date on your calendar: Saturday\, April 12\, 9:00 a.m. to 1:00 p.m. \nAttic Treasures\, Books\, CDs\, DVDs\, Fashion Jewelry\, Toys\, and more!! We will also have baking\, muffins\, coffee\, tea\, and more. You don’t want to miss it! Free Admission\, Free Parking\, Lots of Fun! \n  \nBrowse & Buy colour 2025
URL:https://www.stjamesunitedchurch.com/event/spring-fling/
END:VEVENT
BEGIN:VEVENT
DTSTART;TZID=America/Toronto:20250424T181500
DTEND;TZID=America/Toronto:20250424T191500
DTSTAMP:20260421T085539
CREATED:20250424T153517Z
LAST-MODIFIED:20250424T153642Z
UID:10000673-1745518500-1745522100@www.stjamesunitedchurch.com
SUMMARY:Joseph rehearsal
DESCRIPTION:A reminder that the first meeting / rehearsal for children and youth who want to be part of this fun community music event is THURSDAY\, April 24th from 6:15pm – 7:15pm at St. James.  Meet upstairs.  The performance will be June 8th at 2pm.   We hope that many of our youth and their friends can be part of this musical experience! 😉 \n  \nSt James musical
URL:https://www.stjamesunitedchurch.com/event/joseph-rehearsal/
END:VEVENT
END:VCALENDAR