BEGIN:VCALENDAR
VERSION:2.0
PRODID:-//St. James United Church - ECPv6.15.20//NONSGML v1.0//EN
CALSCALE:GREGORIAN
METHOD:PUBLISH
X-WR-CALNAME:St. James United Church
X-ORIGINAL-URL:https://www.stjamesunitedchurch.com
X-WR-CALDESC:Events for St. James United Church
REFRESH-INTERVAL;VALUE=DURATION:PT1H
X-Robots-Tag:noindex
X-PUBLISHED-TTL:PT1H
BEGIN:VTIMEZONE
TZID:America/Toronto
BEGIN:DAYLIGHT
TZOFFSETFROM:-0500
TZOFFSETTO:-0400
TZNAME:EDT
DTSTART:20220313T070000
END:DAYLIGHT
BEGIN:STANDARD
TZOFFSETFROM:-0400
TZOFFSETTO:-0500
TZNAME:EST
DTSTART:20221106T060000
END:STANDARD
BEGIN:DAYLIGHT
TZOFFSETFROM:-0500
TZOFFSETTO:-0400
TZNAME:EDT
DTSTART:20230312T070000
END:DAYLIGHT
BEGIN:STANDARD
TZOFFSETFROM:-0400
TZOFFSETTO:-0500
TZNAME:EST
DTSTART:20231105T060000
END:STANDARD
BEGIN:DAYLIGHT
TZOFFSETFROM:-0500
TZOFFSETTO:-0400
TZNAME:EDT
DTSTART:20240310T070000
END:DAYLIGHT
BEGIN:STANDARD
TZOFFSETFROM:-0400
TZOFFSETTO:-0500
TZNAME:EST
DTSTART:20241103T060000
END:STANDARD
BEGIN:DAYLIGHT
TZOFFSETFROM:-0500
TZOFFSETTO:-0400
TZNAME:EDT
DTSTART:20250309T070000
END:DAYLIGHT
BEGIN:STANDARD
TZOFFSETFROM:-0400
TZOFFSETTO:-0500
TZNAME:EST
DTSTART:20251102T060000
END:STANDARD
END:VTIMEZONE
BEGIN:VEVENT
DTSTART;TZID=America/Toronto:20240301T133000
DTEND;TZID=America/Toronto:20240301T170000
DTSTAMP:20260421T085709
CREATED:20240215T173615Z
LAST-MODIFIED:20240219T181735Z
UID:10000133-1709299800-1709312400@www.stjamesunitedchurch.com
SUMMARY:World Day of Prayer
DESCRIPTION:2024 World Day of Prayer Service will be held at: \nSt Philips Lutheran Church\, \n61 West Deane Park Dr\, Etobicoke \non Friday\, March 1st at 1:30 p.m. \nPress Here to see WDP poster
URL:https://www.stjamesunitedchurch.com/event/world-day-of-prayer/
ATTACH;FMTTYPE=image/jpeg:https://www.stjamesunitedchurch.com/wordpress/wp-content/uploads/2022/02/WorldDayOfPrayer.jpeg
END:VEVENT
BEGIN:VEVENT
DTSTART;TZID=America/Toronto:20240227T133000
DTEND;TZID=America/Toronto:20240227T160000
DTSTAMP:20260421T085709
CREATED:20231007T162627Z
LAST-MODIFIED:20231007T162628Z
UID:10000073-1709040600-1709049600@www.stjamesunitedchurch.com
SUMMARY:Afternoon Euchre
DESCRIPTION:Euchre at St James – Come join us on the the 2nd and 4th Tuesday of the month at 1:30 PM.  The cost is $5. If interested\, please call Eleanor Harris at 416-234-1365 or email at b_eharris@hotmail.com.  Don’t know how to play\, we will teach you. Everyone is welcome.
URL:https://www.stjamesunitedchurch.com/event/afternoon-euchre-2022-12-06-2-3-2/2024-02-27/
ATTACH;FMTTYPE=image/png:https://www.stjamesunitedchurch.com/wordpress/wp-content/uploads/2022/11/Euchre-e1667768558861.png
END:VEVENT
BEGIN:VEVENT
DTSTART;TZID=America/Toronto:20240213T133000
DTEND;TZID=America/Toronto:20240213T160000
DTSTAMP:20260421T085709
CREATED:20231007T162627Z
LAST-MODIFIED:20231007T162628Z
UID:10000062-1707831000-1707840000@www.stjamesunitedchurch.com
SUMMARY:Afternoon Euchre
DESCRIPTION:Euchre at St James – Come join us on the the 2nd and 4th Tuesday of the month at 1:30 PM.  The cost is $5. If interested\, please call Eleanor Harris at 416-234-1365 or email at b_eharris@hotmail.com.  Don’t know how to play\, we will teach you. Everyone is welcome.
URL:https://www.stjamesunitedchurch.com/event/afternoon-euchre-2022-12-06-2-3-2/2024-02-13/
ATTACH;FMTTYPE=image/png:https://www.stjamesunitedchurch.com/wordpress/wp-content/uploads/2022/11/Euchre-e1667768558861.png
END:VEVENT
BEGIN:VEVENT
DTSTART;TZID=America/Toronto:20240126T190000
DTEND;TZID=America/Toronto:20240126T210000
DTSTAMP:20260421T085709
CREATED:20240109T155245Z
LAST-MODIFIED:20240109T161637Z
UID:10000128-1706295600-1706302800@www.stjamesunitedchurch.com
SUMMARY:Games Night
DESCRIPTION:Games Nights are the last Friday of each month from 7-9pm.  Fun for ages 4 to 104!   😉  All are welcome! \nLAST Friday of each month:  \nFriday\, January 26th\, 7-9pm  \nFriday\, February 23rd\, 7-9pm  \nNone in March due to March Break and Easter!  \n  \nPress here to see poster
URL:https://www.stjamesunitedchurch.com/event/games-night/2024-01-26/
ATTACH;FMTTYPE=image/jpeg:https://www.stjamesunitedchurch.com/wordpress/wp-content/uploads/2021/08/IMG_3642-scaled.jpg
END:VEVENT
BEGIN:VEVENT
DTSTART;TZID=America/Toronto:20240123T133000
DTEND;TZID=America/Toronto:20240123T160000
DTSTAMP:20260421T085709
CREATED:20231007T161623Z
LAST-MODIFIED:20231007T162105Z
UID:10000061-1706016600-1706025600@www.stjamesunitedchurch.com
SUMMARY:Afternoon Euchre
DESCRIPTION:Euchre at St James – Come join us on the the 2nd and 4th Tuesday of the month at 1:30 PM.  The cost is $5. If interested\, please call Eleanor Harris at 416-234-1365 or email at b_eharris@hotmail.com.  Don’t know how to play\, we will teach you. Everyone is welcome.
URL:https://www.stjamesunitedchurch.com/event/afternoon-euchre-2022-12-06-2-3/2024-01-23/
ATTACH;FMTTYPE=image/png:https://www.stjamesunitedchurch.com/wordpress/wp-content/uploads/2022/11/Euchre-e1667768558861.png
END:VEVENT
BEGIN:VEVENT
DTSTART;TZID=America/Toronto:20240109T133000
DTEND;TZID=America/Toronto:20240109T160000
DTSTAMP:20260421T085709
CREATED:20231007T161623Z
LAST-MODIFIED:20231007T162105Z
UID:10000060-1704807000-1704816000@www.stjamesunitedchurch.com
SUMMARY:Afternoon Euchre
DESCRIPTION:Euchre at St James – Come join us on the the 2nd and 4th Tuesday of the month at 1:30 PM.  The cost is $5. If interested\, please call Eleanor Harris at 416-234-1365 or email at b_eharris@hotmail.com.  Don’t know how to play\, we will teach you. Everyone is welcome.
URL:https://www.stjamesunitedchurch.com/event/afternoon-euchre-2022-12-06-2-3/2024-01-09/
ATTACH;FMTTYPE=image/png:https://www.stjamesunitedchurch.com/wordpress/wp-content/uploads/2022/11/Euchre-e1667768558861.png
END:VEVENT
BEGIN:VEVENT
DTSTART;TZID=America/Toronto:20231217T103000
DTEND;TZID=America/Toronto:20231217T113000
DTSTAMP:20260421T085709
CREATED:20210223T195915Z
LAST-MODIFIED:20231202T170437Z
UID:10000005-1702809000-1702812600@www.stjamesunitedchurch.com
SUMMARY:Advent 3 - Joy - Christmas Pageant
DESCRIPTION:December 17\, 2023 is Advent 3 Sunday (JOY). We will have our annual Christmas Pageant. \n  \n 
URL:https://www.stjamesunitedchurch.com/event/advent-3-joy/
ATTACH;FMTTYPE=image/png:https://www.stjamesunitedchurch.com/wordpress/wp-content/uploads/2021/11/advent-candles.png
END:VEVENT
BEGIN:VEVENT
DTSTART;TZID=America/Toronto:20231214T181500
DTEND;TZID=America/Toronto:20231214T191500
DTSTAMP:20260421T085709
CREATED:20231007T165252Z
LAST-MODIFIED:20231007T165547Z
UID:10000108-1702577700-1702581300@www.stjamesunitedchurch.com
SUMMARY:Yoga
DESCRIPTION:Yoga will be held in the lounge on Thursday from 6:15PM -7:15 PM. \nPlease bring your own yoga mat and you are welcome to bring your own yoga block(s) if you have them.  There are some extras available for those who need to borrow them\, from the corner of the room.  Spread your yoga mat on the floor and get comfortable!\nPlease be sure to SIGN IN when you arrive – people who have pre-paid are printed on the list already\, anyone coming for a “drop-in” will pay their $20 to the basket on the table\, and write their name on the list.  All are welcome! 😉
URL:https://www.stjamesunitedchurch.com/event/yoga-3/2023-12-14/
ATTACH;FMTTYPE=image/jpeg:https://www.stjamesunitedchurch.com/wordpress/wp-content/uploads/2023/05/Yoga.jpeg
END:VEVENT
BEGIN:VEVENT
DTSTART;TZID=America/Toronto:20231213T104500
DTEND;TZID=America/Toronto:20231213T114500
DTSTAMP:20260421T085709
CREATED:20231007T164110Z
LAST-MODIFIED:20231007T164509Z
UID:10000096-1702464300-1702467900@www.stjamesunitedchurch.com
SUMMARY:Yoga
DESCRIPTION:Yoga will be continuing in the lounge on Wednesdays from 10:45 – 11:45am. \nPlease bring your own yoga mat and you are welcome to bring your own yoga block(s) if you have them.  There are some extras available for those who need to borrow them\, from the corner of the room.  Spread your yoga mat on the floor and get comfortable!\nPlease be sure to SIGN IN when you arrive – people who have pre-paid are printed on the list already\, anyone coming for a “drop-in” will pay their $20 to the basket on the table\, and write their name on the list.  All are welcome! 😉
URL:https://www.stjamesunitedchurch.com/event/yoga-2/2023-12-13/
ATTACH;FMTTYPE=image/jpeg:https://www.stjamesunitedchurch.com/wordpress/wp-content/uploads/2023/05/Yoga.jpeg
END:VEVENT
BEGIN:VEVENT
DTSTART;TZID=America/Toronto:20231212T133000
DTEND;TZID=America/Toronto:20231212T160000
DTSTAMP:20260421T085709
CREATED:20231007T161319Z
LAST-MODIFIED:20231007T161349Z
UID:10000059-1702387800-1702396800@www.stjamesunitedchurch.com
SUMMARY:Afternoon Euchre
DESCRIPTION:Euchre at St James – Come join us on the the 2nd and 4th Tuesday of the month at 1:30 PM.  The cost is $5. If interested\, please call Eleanor Harris at 416-234-1365 or email at b_eharris@hotmail.com.  Don’t know how to play\, we will teach you. Everyone is welcome.
URL:https://www.stjamesunitedchurch.com/event/afternoon-euchre-2022-12-06-2-2/
ATTACH;FMTTYPE=image/png:https://www.stjamesunitedchurch.com/wordpress/wp-content/uploads/2022/11/Euchre-e1667768558861.png
END:VEVENT
BEGIN:VEVENT
DTSTART;TZID=America/Toronto:20231210T193000
DTEND;TZID=America/Toronto:20231210T203000
DTSTAMP:20260421T085709
CREATED:20210224T150908Z
LAST-MODIFIED:20231202T170114Z
UID:10000003-1702236600-1702240200@www.stjamesunitedchurch.com
SUMMARY:Candlelight Carol Service
DESCRIPTION:Our Candlelight Carol Service is at 7:30 pm on December 10\,2023. \n  \nFor further information Press Here
URL:https://www.stjamesunitedchurch.com/event/candlelight-carol-service/
ATTACH;FMTTYPE=image/png:https://www.stjamesunitedchurch.com/wordpress/wp-content/uploads/2021/09/image-4.png
END:VEVENT
BEGIN:VEVENT
DTSTART;TZID=America/Toronto:20231210T103000
DTEND;TZID=America/Toronto:20231210T113000
DTSTAMP:20260421T085709
CREATED:20210223T195642Z
LAST-MODIFIED:20231202T171124Z
UID:10000006-1702204200-1702207800@www.stjamesunitedchurch.com
SUMMARY:Advent 2 - Peace
DESCRIPTION:December 10\, 2023 is Advent 2 Sunday (PEACE).  We will remember those who have passed during a Blue Christmas moment. 
URL:https://www.stjamesunitedchurch.com/event/advent-2-peace/
ATTACH;FMTTYPE=image/png:https://www.stjamesunitedchurch.com/wordpress/wp-content/uploads/2021/11/advent-candles.png
END:VEVENT
BEGIN:VEVENT
DTSTART;TZID=America/Toronto:20231207T181500
DTEND;TZID=America/Toronto:20231207T191500
DTSTAMP:20260421T085709
CREATED:20231007T165252Z
LAST-MODIFIED:20231007T165547Z
UID:10000107-1701972900-1701976500@www.stjamesunitedchurch.com
SUMMARY:Yoga
DESCRIPTION:Yoga will be held in the lounge on Thursday from 6:15PM -7:15 PM. \nPlease bring your own yoga mat and you are welcome to bring your own yoga block(s) if you have them.  There are some extras available for those who need to borrow them\, from the corner of the room.  Spread your yoga mat on the floor and get comfortable!\nPlease be sure to SIGN IN when you arrive – people who have pre-paid are printed on the list already\, anyone coming for a “drop-in” will pay their $20 to the basket on the table\, and write their name on the list.  All are welcome! 😉
URL:https://www.stjamesunitedchurch.com/event/yoga-3/2023-12-07/
ATTACH;FMTTYPE=image/jpeg:https://www.stjamesunitedchurch.com/wordpress/wp-content/uploads/2023/05/Yoga.jpeg
END:VEVENT
BEGIN:VEVENT
DTSTART;TZID=America/Toronto:20231206T104500
DTEND;TZID=America/Toronto:20231206T114500
DTSTAMP:20260421T085709
CREATED:20231007T164110Z
LAST-MODIFIED:20231007T164509Z
UID:10000095-1701859500-1701863100@www.stjamesunitedchurch.com
SUMMARY:Yoga
DESCRIPTION:Yoga will be continuing in the lounge on Wednesdays from 10:45 – 11:45am. \nPlease bring your own yoga mat and you are welcome to bring your own yoga block(s) if you have them.  There are some extras available for those who need to borrow them\, from the corner of the room.  Spread your yoga mat on the floor and get comfortable!\nPlease be sure to SIGN IN when you arrive – people who have pre-paid are printed on the list already\, anyone coming for a “drop-in” will pay their $20 to the basket on the table\, and write their name on the list.  All are welcome! 😉
URL:https://www.stjamesunitedchurch.com/event/yoga-2/2023-12-06/
ATTACH;FMTTYPE=image/jpeg:https://www.stjamesunitedchurch.com/wordpress/wp-content/uploads/2023/05/Yoga.jpeg
END:VEVENT
BEGIN:VEVENT
DTSTART;TZID=America/Toronto:20231203T103000
DTEND;TZID=America/Toronto:20231203T113000
DTSTAMP:20260421T085709
CREATED:20231202T171511Z
LAST-MODIFIED:20231202T171511Z
UID:10000118-1701599400-1701603000@www.stjamesunitedchurch.com
SUMMARY:Advent 1 - Hope
DESCRIPTION:Sunday\, December 3\, 2023 is Advent 1 (Hope). We will celebrate Holy Communion.
URL:https://www.stjamesunitedchurch.com/event/advent-1-hope/
ATTACH;FMTTYPE=image/png:https://www.stjamesunitedchurch.com/wordpress/wp-content/uploads/2021/11/advent-candles.png
END:VEVENT
BEGIN:VEVENT
DTSTART;TZID=America/Toronto:20231130T181500
DTEND;TZID=America/Toronto:20231130T191500
DTSTAMP:20260421T085709
CREATED:20231007T165252Z
LAST-MODIFIED:20231007T165547Z
UID:10000106-1701368100-1701371700@www.stjamesunitedchurch.com
SUMMARY:Yoga
DESCRIPTION:Yoga will be held in the lounge on Thursday from 6:15PM -7:15 PM. \nPlease bring your own yoga mat and you are welcome to bring your own yoga block(s) if you have them.  There are some extras available for those who need to borrow them\, from the corner of the room.  Spread your yoga mat on the floor and get comfortable!\nPlease be sure to SIGN IN when you arrive – people who have pre-paid are printed on the list already\, anyone coming for a “drop-in” will pay their $20 to the basket on the table\, and write their name on the list.  All are welcome! 😉
URL:https://www.stjamesunitedchurch.com/event/yoga-3/2023-11-30/
ATTACH;FMTTYPE=image/jpeg:https://www.stjamesunitedchurch.com/wordpress/wp-content/uploads/2023/05/Yoga.jpeg
END:VEVENT
BEGIN:VEVENT
DTSTART;TZID=America/Toronto:20231129T104500
DTEND;TZID=America/Toronto:20231129T114500
DTSTAMP:20260421T085709
CREATED:20231007T164110Z
LAST-MODIFIED:20231007T164509Z
UID:10000094-1701254700-1701258300@www.stjamesunitedchurch.com
SUMMARY:Yoga
DESCRIPTION:Yoga will be continuing in the lounge on Wednesdays from 10:45 – 11:45am. \nPlease bring your own yoga mat and you are welcome to bring your own yoga block(s) if you have them.  There are some extras available for those who need to borrow them\, from the corner of the room.  Spread your yoga mat on the floor and get comfortable!\nPlease be sure to SIGN IN when you arrive – people who have pre-paid are printed on the list already\, anyone coming for a “drop-in” will pay their $20 to the basket on the table\, and write their name on the list.  All are welcome! 😉
URL:https://www.stjamesunitedchurch.com/event/yoga-2/2023-11-29/
ATTACH;FMTTYPE=image/jpeg:https://www.stjamesunitedchurch.com/wordpress/wp-content/uploads/2023/05/Yoga.jpeg
END:VEVENT
BEGIN:VEVENT
DTSTART;TZID=America/Toronto:20231126T103000
DTEND;TZID=America/Toronto:20231126T113000
DTSTAMP:20260421T085709
CREATED:20231031T154409Z
LAST-MODIFIED:20231031T154409Z
UID:10000117-1700994600-1700998200@www.stjamesunitedchurch.com
SUMMARY:Reign of Christ Sunday
DESCRIPTION:November 26\, 2023\, is Reign of Christ Sunday. Our guest preacher will be the Rev. Alexa Gilmour\, and our guest soloist will be Renee Fajardo.
URL:https://www.stjamesunitedchurch.com/event/reign-of-christ-sunday/
END:VEVENT
BEGIN:VEVENT
DTSTART;TZID=America/Toronto:20231123T181500
DTEND;TZID=America/Toronto:20231123T191500
DTSTAMP:20260421T085709
CREATED:20231007T165252Z
LAST-MODIFIED:20231007T165547Z
UID:10000105-1700763300-1700766900@www.stjamesunitedchurch.com
SUMMARY:Yoga
DESCRIPTION:Yoga will be held in the lounge on Thursday from 6:15PM -7:15 PM. \nPlease bring your own yoga mat and you are welcome to bring your own yoga block(s) if you have them.  There are some extras available for those who need to borrow them\, from the corner of the room.  Spread your yoga mat on the floor and get comfortable!\nPlease be sure to SIGN IN when you arrive – people who have pre-paid are printed on the list already\, anyone coming for a “drop-in” will pay their $20 to the basket on the table\, and write their name on the list.  All are welcome! 😉
URL:https://www.stjamesunitedchurch.com/event/yoga-3/2023-11-23/
ATTACH;FMTTYPE=image/jpeg:https://www.stjamesunitedchurch.com/wordpress/wp-content/uploads/2023/05/Yoga.jpeg
END:VEVENT
BEGIN:VEVENT
DTSTART;TZID=America/Toronto:20231122T104500
DTEND;TZID=America/Toronto:20231122T114500
DTSTAMP:20260421T085709
CREATED:20231007T164110Z
LAST-MODIFIED:20231007T164509Z
UID:10000093-1700649900-1700653500@www.stjamesunitedchurch.com
SUMMARY:Yoga
DESCRIPTION:Yoga will be continuing in the lounge on Wednesdays from 10:45 – 11:45am. \nPlease bring your own yoga mat and you are welcome to bring your own yoga block(s) if you have them.  There are some extras available for those who need to borrow them\, from the corner of the room.  Spread your yoga mat on the floor and get comfortable!\nPlease be sure to SIGN IN when you arrive – people who have pre-paid are printed on the list already\, anyone coming for a “drop-in” will pay their $20 to the basket on the table\, and write their name on the list.  All are welcome! 😉
URL:https://www.stjamesunitedchurch.com/event/yoga-2/2023-11-22/
ATTACH;FMTTYPE=image/jpeg:https://www.stjamesunitedchurch.com/wordpress/wp-content/uploads/2023/05/Yoga.jpeg
END:VEVENT
BEGIN:VEVENT
DTSTART;TZID=America/Toronto:20231116T181500
DTEND;TZID=America/Toronto:20231116T191500
DTSTAMP:20260421T085709
CREATED:20231007T165252Z
LAST-MODIFIED:20231007T165547Z
UID:10000104-1700158500-1700162100@www.stjamesunitedchurch.com
SUMMARY:Yoga
DESCRIPTION:Yoga will be held in the lounge on Thursday from 6:15PM -7:15 PM. \nPlease bring your own yoga mat and you are welcome to bring your own yoga block(s) if you have them.  There are some extras available for those who need to borrow them\, from the corner of the room.  Spread your yoga mat on the floor and get comfortable!\nPlease be sure to SIGN IN when you arrive – people who have pre-paid are printed on the list already\, anyone coming for a “drop-in” will pay their $20 to the basket on the table\, and write their name on the list.  All are welcome! 😉
URL:https://www.stjamesunitedchurch.com/event/yoga-3/2023-11-16/
ATTACH;FMTTYPE=image/jpeg:https://www.stjamesunitedchurch.com/wordpress/wp-content/uploads/2023/05/Yoga.jpeg
END:VEVENT
BEGIN:VEVENT
DTSTART;TZID=America/Toronto:20231115T104500
DTEND;TZID=America/Toronto:20231115T114500
DTSTAMP:20260421T085709
CREATED:20231007T164110Z
LAST-MODIFIED:20231007T164509Z
UID:10000092-1700045100-1700048700@www.stjamesunitedchurch.com
SUMMARY:Yoga
DESCRIPTION:Yoga will be continuing in the lounge on Wednesdays from 10:45 – 11:45am. \nPlease bring your own yoga mat and you are welcome to bring your own yoga block(s) if you have them.  There are some extras available for those who need to borrow them\, from the corner of the room.  Spread your yoga mat on the floor and get comfortable!\nPlease be sure to SIGN IN when you arrive – people who have pre-paid are printed on the list already\, anyone coming for a “drop-in” will pay their $20 to the basket on the table\, and write their name on the list.  All are welcome! 😉
URL:https://www.stjamesunitedchurch.com/event/yoga-2/2023-11-15/
ATTACH;FMTTYPE=image/jpeg:https://www.stjamesunitedchurch.com/wordpress/wp-content/uploads/2023/05/Yoga.jpeg
END:VEVENT
BEGIN:VEVENT
DTSTART;TZID=America/Toronto:20231109T181500
DTEND;TZID=America/Toronto:20231109T191500
DTSTAMP:20260421T085709
CREATED:20231007T165252Z
LAST-MODIFIED:20231007T165547Z
UID:10000103-1699553700-1699557300@www.stjamesunitedchurch.com
SUMMARY:Yoga
DESCRIPTION:Yoga will be held in the lounge on Thursday from 6:15PM -7:15 PM. \nPlease bring your own yoga mat and you are welcome to bring your own yoga block(s) if you have them.  There are some extras available for those who need to borrow them\, from the corner of the room.  Spread your yoga mat on the floor and get comfortable!\nPlease be sure to SIGN IN when you arrive – people who have pre-paid are printed on the list already\, anyone coming for a “drop-in” will pay their $20 to the basket on the table\, and write their name on the list.  All are welcome! 😉
URL:https://www.stjamesunitedchurch.com/event/yoga-3/2023-11-09/
ATTACH;FMTTYPE=image/jpeg:https://www.stjamesunitedchurch.com/wordpress/wp-content/uploads/2023/05/Yoga.jpeg
END:VEVENT
BEGIN:VEVENT
DTSTART;TZID=America/Toronto:20231108T104500
DTEND;TZID=America/Toronto:20231108T114500
DTSTAMP:20260421T085709
CREATED:20231007T164110Z
LAST-MODIFIED:20231007T164509Z
UID:10000091-1699440300-1699443900@www.stjamesunitedchurch.com
SUMMARY:Yoga
DESCRIPTION:Yoga will be continuing in the lounge on Wednesdays from 10:45 – 11:45am. \nPlease bring your own yoga mat and you are welcome to bring your own yoga block(s) if you have them.  There are some extras available for those who need to borrow them\, from the corner of the room.  Spread your yoga mat on the floor and get comfortable!\nPlease be sure to SIGN IN when you arrive – people who have pre-paid are printed on the list already\, anyone coming for a “drop-in” will pay their $20 to the basket on the table\, and write their name on the list.  All are welcome! 😉
URL:https://www.stjamesunitedchurch.com/event/yoga-2/2023-11-08/
ATTACH;FMTTYPE=image/jpeg:https://www.stjamesunitedchurch.com/wordpress/wp-content/uploads/2023/05/Yoga.jpeg
END:VEVENT
BEGIN:VEVENT
DTSTART;TZID=America/Toronto:20231102T181500
DTEND;TZID=America/Toronto:20231102T191500
DTSTAMP:20260421T085709
CREATED:20231007T165252Z
LAST-MODIFIED:20231007T165547Z
UID:10000102-1698948900-1698952500@www.stjamesunitedchurch.com
SUMMARY:Yoga
DESCRIPTION:Yoga will be held in the lounge on Thursday from 6:15PM -7:15 PM. \nPlease bring your own yoga mat and you are welcome to bring your own yoga block(s) if you have them.  There are some extras available for those who need to borrow them\, from the corner of the room.  Spread your yoga mat on the floor and get comfortable!\nPlease be sure to SIGN IN when you arrive – people who have pre-paid are printed on the list already\, anyone coming for a “drop-in” will pay their $20 to the basket on the table\, and write their name on the list.  All are welcome! 😉
URL:https://www.stjamesunitedchurch.com/event/yoga-3/2023-11-02/
ATTACH;FMTTYPE=image/jpeg:https://www.stjamesunitedchurch.com/wordpress/wp-content/uploads/2023/05/Yoga.jpeg
END:VEVENT
BEGIN:VEVENT
DTSTART;TZID=America/Toronto:20231101T104500
DTEND;TZID=America/Toronto:20231101T114500
DTSTAMP:20260421T085709
CREATED:20231007T164110Z
LAST-MODIFIED:20231007T164509Z
UID:10000090-1698835500-1698839100@www.stjamesunitedchurch.com
SUMMARY:Yoga
DESCRIPTION:Yoga will be continuing in the lounge on Wednesdays from 10:45 – 11:45am. \nPlease bring your own yoga mat and you are welcome to bring your own yoga block(s) if you have them.  There are some extras available for those who need to borrow them\, from the corner of the room.  Spread your yoga mat on the floor and get comfortable!\nPlease be sure to SIGN IN when you arrive – people who have pre-paid are printed on the list already\, anyone coming for a “drop-in” will pay their $20 to the basket on the table\, and write their name on the list.  All are welcome! 😉
URL:https://www.stjamesunitedchurch.com/event/yoga-2/2023-11-01/
ATTACH;FMTTYPE=image/jpeg:https://www.stjamesunitedchurch.com/wordpress/wp-content/uploads/2023/05/Yoga.jpeg
END:VEVENT
BEGIN:VEVENT
DTSTART;TZID=America/Toronto:20231026T181500
DTEND;TZID=America/Toronto:20231026T191500
DTSTAMP:20260421T085709
CREATED:20231007T165252Z
LAST-MODIFIED:20231007T165547Z
UID:10000101-1698344100-1698347700@www.stjamesunitedchurch.com
SUMMARY:Yoga
DESCRIPTION:Yoga will be held in the lounge on Thursday from 6:15PM -7:15 PM. \nPlease bring your own yoga mat and you are welcome to bring your own yoga block(s) if you have them.  There are some extras available for those who need to borrow them\, from the corner of the room.  Spread your yoga mat on the floor and get comfortable!\nPlease be sure to SIGN IN when you arrive – people who have pre-paid are printed on the list already\, anyone coming for a “drop-in” will pay their $20 to the basket on the table\, and write their name on the list.  All are welcome! 😉
URL:https://www.stjamesunitedchurch.com/event/yoga-3/2023-10-26/
ATTACH;FMTTYPE=image/jpeg:https://www.stjamesunitedchurch.com/wordpress/wp-content/uploads/2023/05/Yoga.jpeg
END:VEVENT
BEGIN:VEVENT
DTSTART;TZID=America/Toronto:20231025T104500
DTEND;TZID=America/Toronto:20231025T114500
DTSTAMP:20260421T085709
CREATED:20231007T164110Z
LAST-MODIFIED:20231007T164509Z
UID:10000089-1698230700-1698234300@www.stjamesunitedchurch.com
SUMMARY:Yoga
DESCRIPTION:Yoga will be continuing in the lounge on Wednesdays from 10:45 – 11:45am. \nPlease bring your own yoga mat and you are welcome to bring your own yoga block(s) if you have them.  There are some extras available for those who need to borrow them\, from the corner of the room.  Spread your yoga mat on the floor and get comfortable!\nPlease be sure to SIGN IN when you arrive – people who have pre-paid are printed on the list already\, anyone coming for a “drop-in” will pay their $20 to the basket on the table\, and write their name on the list.  All are welcome! 😉
URL:https://www.stjamesunitedchurch.com/event/yoga-2/2023-10-25/
ATTACH;FMTTYPE=image/jpeg:https://www.stjamesunitedchurch.com/wordpress/wp-content/uploads/2023/05/Yoga.jpeg
END:VEVENT
BEGIN:VEVENT
DTSTART;TZID=America/Toronto:20231022T113000
DTEND;TZID=America/Toronto:20231022T123000
DTSTAMP:20260421T085709
CREATED:20231007T170732Z
LAST-MODIFIED:20231007T170732Z
UID:10000112-1697974200-1697977800@www.stjamesunitedchurch.com
SUMMARY:Soup Fundraiser
DESCRIPTION:Fall is here!  Time for some delicious\, locally-sourced soups!  Our fall fundraiser features soup and dessert mixes from Kanata Soups\, a veteran-run company based in Ontario!  Come and place your order today in Fellowship Hall\, or after church each Sunday until (and including) October 15th.  Please take an extra order form for a friend or neighbour.  These soups make great hostess or Christmas gifts\, delicious meals\, and are easy to prepare!    Orders will be delivered to the church on October 22nd for pick-up.  Look at all the options online at kanatasoup.ca and then place your order here at St. James\, so that it is cheaper for you – taxes included and no shipping fees when you order with us!  The church also receives a portion of every order!  Win-win! 😉
URL:https://www.stjamesunitedchurch.com/event/soup-fundraiser/2023-10-22/
ATTACH;FMTTYPE=image/jpeg:https://www.stjamesunitedchurch.com/wordpress/wp-content/uploads/2023/10/soup.jpeg
END:VEVENT
BEGIN:VEVENT
DTSTART;TZID=America/Toronto:20231019T193000
DTEND;TZID=America/Toronto:20231019T210000
DTSTAMP:20260421T085709
CREATED:20231014T182819Z
LAST-MODIFIED:20231014T183521Z
UID:10000115-1697743800-1697749200@www.stjamesunitedchurch.com
SUMMARY:October Youth meeting
DESCRIPTION:Calling all youth Grade 7 to 12 to meet at Islington United Church for  The Amazing Race Halloween edition. We are joining with youths from other local United Churches once a month.
URL:https://www.stjamesunitedchurch.com/event/october-youth-meeting/
END:VEVENT
END:VCALENDAR