BEGIN:VCALENDAR
VERSION:2.0
PRODID:-//St. James United Church - ECPv6.15.20//NONSGML v1.0//EN
CALSCALE:GREGORIAN
METHOD:PUBLISH
X-ORIGINAL-URL:https://www.stjamesunitedchurch.com
X-WR-CALDESC:Events for St. James United Church
REFRESH-INTERVAL;VALUE=DURATION:PT1H
X-Robots-Tag:noindex
X-PUBLISHED-TTL:PT1H
BEGIN:VTIMEZONE
TZID:America/Toronto
BEGIN:DAYLIGHT
TZOFFSETFROM:-0500
TZOFFSETTO:-0400
TZNAME:EDT
DTSTART:20250309T070000
END:DAYLIGHT
BEGIN:STANDARD
TZOFFSETFROM:-0400
TZOFFSETTO:-0500
TZNAME:EST
DTSTART:20251102T060000
END:STANDARD
BEGIN:DAYLIGHT
TZOFFSETFROM:-0500
TZOFFSETTO:-0400
TZNAME:EDT
DTSTART:20260308T070000
END:DAYLIGHT
BEGIN:STANDARD
TZOFFSETFROM:-0400
TZOFFSETTO:-0500
TZNAME:EST
DTSTART:20261101T060000
END:STANDARD
BEGIN:DAYLIGHT
TZOFFSETFROM:-0500
TZOFFSETTO:-0400
TZNAME:EDT
DTSTART:20270314T070000
END:DAYLIGHT
BEGIN:STANDARD
TZOFFSETFROM:-0400
TZOFFSETTO:-0500
TZNAME:EST
DTSTART:20271107T060000
END:STANDARD
END:VTIMEZONE
BEGIN:VEVENT
DTSTART;TZID=America/Toronto:20260708T110000
DTEND;TZID=America/Toronto:20260708T120000
DTSTAMP:20260421T204727
CREATED:20250906T154413Z
LAST-MODIFIED:20250906T154704Z
UID:10000737-1783508400-1783512000@www.stjamesunitedchurch.com
SUMMARY:Yoga
DESCRIPTION:Yoga at St. James will be continuing this fall with instructors from Power Yoga Canada – At Work\, including Ashley and Silvana.\n\nPlease spread the word!  Newcomers are welcome to join our yoga practice.\n\nJust like last year\, the pricing is $25/class for drop-in (or “pay as you go”).  If you want to prepay for the 2 months (September 10 – October 29th) then it is a savings of $5/class\, or $20 each class = $160.\n\nYou can pay by etransfer to me (karen_forgrave@hotmail.com) and I will add your name to the list.  Otherwise\, you can pay by cash or cheque on the first day of the class to Matty in the church office.\n\nAs always\, if this price represents a financial burden to you\, please reach out confidentially and subsidies can be made available.\n\nLooking forward to seeing you on the yoga mat!
URL:https://www.stjamesunitedchurch.com/event/yoga-5/2026-07-08/
ATTACH;FMTTYPE=image/jpeg:https://www.stjamesunitedchurch.com/wordpress/wp-content/uploads/2023/05/Yoga.jpeg
END:VEVENT
BEGIN:VEVENT
DTSTART;TZID=America/Toronto:20260715T110000
DTEND;TZID=America/Toronto:20260715T120000
DTSTAMP:20260421T204727
CREATED:20250906T154413Z
LAST-MODIFIED:20250906T154704Z
UID:10000738-1784113200-1784116800@www.stjamesunitedchurch.com
SUMMARY:Yoga
DESCRIPTION:Yoga at St. James will be continuing this fall with instructors from Power Yoga Canada – At Work\, including Ashley and Silvana.\n\nPlease spread the word!  Newcomers are welcome to join our yoga practice.\n\nJust like last year\, the pricing is $25/class for drop-in (or “pay as you go”).  If you want to prepay for the 2 months (September 10 – October 29th) then it is a savings of $5/class\, or $20 each class = $160.\n\nYou can pay by etransfer to me (karen_forgrave@hotmail.com) and I will add your name to the list.  Otherwise\, you can pay by cash or cheque on the first day of the class to Matty in the church office.\n\nAs always\, if this price represents a financial burden to you\, please reach out confidentially and subsidies can be made available.\n\nLooking forward to seeing you on the yoga mat!
URL:https://www.stjamesunitedchurch.com/event/yoga-5/2026-07-15/
ATTACH;FMTTYPE=image/jpeg:https://www.stjamesunitedchurch.com/wordpress/wp-content/uploads/2023/05/Yoga.jpeg
END:VEVENT
BEGIN:VEVENT
DTSTART;TZID=America/Toronto:20260722T110000
DTEND;TZID=America/Toronto:20260722T120000
DTSTAMP:20260421T204727
CREATED:20250906T154413Z
LAST-MODIFIED:20250906T154704Z
UID:10000739-1784718000-1784721600@www.stjamesunitedchurch.com
SUMMARY:Yoga
DESCRIPTION:Yoga at St. James will be continuing this fall with instructors from Power Yoga Canada – At Work\, including Ashley and Silvana.\n\nPlease spread the word!  Newcomers are welcome to join our yoga practice.\n\nJust like last year\, the pricing is $25/class for drop-in (or “pay as you go”).  If you want to prepay for the 2 months (September 10 – October 29th) then it is a savings of $5/class\, or $20 each class = $160.\n\nYou can pay by etransfer to me (karen_forgrave@hotmail.com) and I will add your name to the list.  Otherwise\, you can pay by cash or cheque on the first day of the class to Matty in the church office.\n\nAs always\, if this price represents a financial burden to you\, please reach out confidentially and subsidies can be made available.\n\nLooking forward to seeing you on the yoga mat!
URL:https://www.stjamesunitedchurch.com/event/yoga-5/2026-07-22/
ATTACH;FMTTYPE=image/jpeg:https://www.stjamesunitedchurch.com/wordpress/wp-content/uploads/2023/05/Yoga.jpeg
END:VEVENT
BEGIN:VEVENT
DTSTART;TZID=America/Toronto:20260729T110000
DTEND;TZID=America/Toronto:20260729T120000
DTSTAMP:20260421T204727
CREATED:20250906T154413Z
LAST-MODIFIED:20250906T154704Z
UID:10000740-1785322800-1785326400@www.stjamesunitedchurch.com
SUMMARY:Yoga
DESCRIPTION:Yoga at St. James will be continuing this fall with instructors from Power Yoga Canada – At Work\, including Ashley and Silvana.\n\nPlease spread the word!  Newcomers are welcome to join our yoga practice.\n\nJust like last year\, the pricing is $25/class for drop-in (or “pay as you go”).  If you want to prepay for the 2 months (September 10 – October 29th) then it is a savings of $5/class\, or $20 each class = $160.\n\nYou can pay by etransfer to me (karen_forgrave@hotmail.com) and I will add your name to the list.  Otherwise\, you can pay by cash or cheque on the first day of the class to Matty in the church office.\n\nAs always\, if this price represents a financial burden to you\, please reach out confidentially and subsidies can be made available.\n\nLooking forward to seeing you on the yoga mat!
URL:https://www.stjamesunitedchurch.com/event/yoga-5/2026-07-29/
ATTACH;FMTTYPE=image/jpeg:https://www.stjamesunitedchurch.com/wordpress/wp-content/uploads/2023/05/Yoga.jpeg
END:VEVENT
BEGIN:VEVENT
DTSTART;TZID=America/Toronto:20260805T110000
DTEND;TZID=America/Toronto:20260805T120000
DTSTAMP:20260421T204727
CREATED:20250906T154413Z
LAST-MODIFIED:20250906T154704Z
UID:10000741-1785927600-1785931200@www.stjamesunitedchurch.com
SUMMARY:Yoga
DESCRIPTION:Yoga at St. James will be continuing this fall with instructors from Power Yoga Canada – At Work\, including Ashley and Silvana.\n\nPlease spread the word!  Newcomers are welcome to join our yoga practice.\n\nJust like last year\, the pricing is $25/class for drop-in (or “pay as you go”).  If you want to prepay for the 2 months (September 10 – October 29th) then it is a savings of $5/class\, or $20 each class = $160.\n\nYou can pay by etransfer to me (karen_forgrave@hotmail.com) and I will add your name to the list.  Otherwise\, you can pay by cash or cheque on the first day of the class to Matty in the church office.\n\nAs always\, if this price represents a financial burden to you\, please reach out confidentially and subsidies can be made available.\n\nLooking forward to seeing you on the yoga mat!
URL:https://www.stjamesunitedchurch.com/event/yoga-5/2026-08-05/
ATTACH;FMTTYPE=image/jpeg:https://www.stjamesunitedchurch.com/wordpress/wp-content/uploads/2023/05/Yoga.jpeg
END:VEVENT
BEGIN:VEVENT
DTSTART;TZID=America/Toronto:20260812T110000
DTEND;TZID=America/Toronto:20260812T120000
DTSTAMP:20260421T204727
CREATED:20250906T154413Z
LAST-MODIFIED:20250906T154704Z
UID:10000742-1786532400-1786536000@www.stjamesunitedchurch.com
SUMMARY:Yoga
DESCRIPTION:Yoga at St. James will be continuing this fall with instructors from Power Yoga Canada – At Work\, including Ashley and Silvana.\n\nPlease spread the word!  Newcomers are welcome to join our yoga practice.\n\nJust like last year\, the pricing is $25/class for drop-in (or “pay as you go”).  If you want to prepay for the 2 months (September 10 – October 29th) then it is a savings of $5/class\, or $20 each class = $160.\n\nYou can pay by etransfer to me (karen_forgrave@hotmail.com) and I will add your name to the list.  Otherwise\, you can pay by cash or cheque on the first day of the class to Matty in the church office.\n\nAs always\, if this price represents a financial burden to you\, please reach out confidentially and subsidies can be made available.\n\nLooking forward to seeing you on the yoga mat!
URL:https://www.stjamesunitedchurch.com/event/yoga-5/2026-08-12/
ATTACH;FMTTYPE=image/jpeg:https://www.stjamesunitedchurch.com/wordpress/wp-content/uploads/2023/05/Yoga.jpeg
END:VEVENT
BEGIN:VEVENT
DTSTART;TZID=America/Toronto:20260819T110000
DTEND;TZID=America/Toronto:20260819T120000
DTSTAMP:20260421T204727
CREATED:20250906T154413Z
LAST-MODIFIED:20250906T154704Z
UID:10000743-1787137200-1787140800@www.stjamesunitedchurch.com
SUMMARY:Yoga
DESCRIPTION:Yoga at St. James will be continuing this fall with instructors from Power Yoga Canada – At Work\, including Ashley and Silvana.\n\nPlease spread the word!  Newcomers are welcome to join our yoga practice.\n\nJust like last year\, the pricing is $25/class for drop-in (or “pay as you go”).  If you want to prepay for the 2 months (September 10 – October 29th) then it is a savings of $5/class\, or $20 each class = $160.\n\nYou can pay by etransfer to me (karen_forgrave@hotmail.com) and I will add your name to the list.  Otherwise\, you can pay by cash or cheque on the first day of the class to Matty in the church office.\n\nAs always\, if this price represents a financial burden to you\, please reach out confidentially and subsidies can be made available.\n\nLooking forward to seeing you on the yoga mat!
URL:https://www.stjamesunitedchurch.com/event/yoga-5/2026-08-19/
ATTACH;FMTTYPE=image/jpeg:https://www.stjamesunitedchurch.com/wordpress/wp-content/uploads/2023/05/Yoga.jpeg
END:VEVENT
BEGIN:VEVENT
DTSTART;TZID=America/Toronto:20260826T110000
DTEND;TZID=America/Toronto:20260826T120000
DTSTAMP:20260421T204727
CREATED:20250906T154413Z
LAST-MODIFIED:20250906T154704Z
UID:10000744-1787742000-1787745600@www.stjamesunitedchurch.com
SUMMARY:Yoga
DESCRIPTION:Yoga at St. James will be continuing this fall with instructors from Power Yoga Canada – At Work\, including Ashley and Silvana.\n\nPlease spread the word!  Newcomers are welcome to join our yoga practice.\n\nJust like last year\, the pricing is $25/class for drop-in (or “pay as you go”).  If you want to prepay for the 2 months (September 10 – October 29th) then it is a savings of $5/class\, or $20 each class = $160.\n\nYou can pay by etransfer to me (karen_forgrave@hotmail.com) and I will add your name to the list.  Otherwise\, you can pay by cash or cheque on the first day of the class to Matty in the church office.\n\nAs always\, if this price represents a financial burden to you\, please reach out confidentially and subsidies can be made available.\n\nLooking forward to seeing you on the yoga mat!
URL:https://www.stjamesunitedchurch.com/event/yoga-5/2026-08-26/
ATTACH;FMTTYPE=image/jpeg:https://www.stjamesunitedchurch.com/wordpress/wp-content/uploads/2023/05/Yoga.jpeg
END:VEVENT
BEGIN:VEVENT
DTSTART;TZID=America/Toronto:20260902T110000
DTEND;TZID=America/Toronto:20260902T120000
DTSTAMP:20260421T204727
CREATED:20250906T154413Z
LAST-MODIFIED:20250906T154704Z
UID:10000745-1788346800-1788350400@www.stjamesunitedchurch.com
SUMMARY:Yoga
DESCRIPTION:Yoga at St. James will be continuing this fall with instructors from Power Yoga Canada – At Work\, including Ashley and Silvana.\n\nPlease spread the word!  Newcomers are welcome to join our yoga practice.\n\nJust like last year\, the pricing is $25/class for drop-in (or “pay as you go”).  If you want to prepay for the 2 months (September 10 – October 29th) then it is a savings of $5/class\, or $20 each class = $160.\n\nYou can pay by etransfer to me (karen_forgrave@hotmail.com) and I will add your name to the list.  Otherwise\, you can pay by cash or cheque on the first day of the class to Matty in the church office.\n\nAs always\, if this price represents a financial burden to you\, please reach out confidentially and subsidies can be made available.\n\nLooking forward to seeing you on the yoga mat!
URL:https://www.stjamesunitedchurch.com/event/yoga-5/2026-09-02/
ATTACH;FMTTYPE=image/jpeg:https://www.stjamesunitedchurch.com/wordpress/wp-content/uploads/2023/05/Yoga.jpeg
END:VEVENT
BEGIN:VEVENT
DTSTART;TZID=America/Toronto:20260909T110000
DTEND;TZID=America/Toronto:20260909T120000
DTSTAMP:20260421T204727
CREATED:20250906T154413Z
LAST-MODIFIED:20250906T154704Z
UID:10000746-1788951600-1788955200@www.stjamesunitedchurch.com
SUMMARY:Yoga
DESCRIPTION:Yoga at St. James will be continuing this fall with instructors from Power Yoga Canada – At Work\, including Ashley and Silvana.\n\nPlease spread the word!  Newcomers are welcome to join our yoga practice.\n\nJust like last year\, the pricing is $25/class for drop-in (or “pay as you go”).  If you want to prepay for the 2 months (September 10 – October 29th) then it is a savings of $5/class\, or $20 each class = $160.\n\nYou can pay by etransfer to me (karen_forgrave@hotmail.com) and I will add your name to the list.  Otherwise\, you can pay by cash or cheque on the first day of the class to Matty in the church office.\n\nAs always\, if this price represents a financial burden to you\, please reach out confidentially and subsidies can be made available.\n\nLooking forward to seeing you on the yoga mat!
URL:https://www.stjamesunitedchurch.com/event/yoga-5/2026-09-09/
ATTACH;FMTTYPE=image/jpeg:https://www.stjamesunitedchurch.com/wordpress/wp-content/uploads/2023/05/Yoga.jpeg
END:VEVENT
BEGIN:VEVENT
DTSTART;TZID=America/Toronto:20260916T110000
DTEND;TZID=America/Toronto:20260916T120000
DTSTAMP:20260421T204727
CREATED:20250906T154413Z
LAST-MODIFIED:20250906T154704Z
UID:10000747-1789556400-1789560000@www.stjamesunitedchurch.com
SUMMARY:Yoga
DESCRIPTION:Yoga at St. James will be continuing this fall with instructors from Power Yoga Canada – At Work\, including Ashley and Silvana.\n\nPlease spread the word!  Newcomers are welcome to join our yoga practice.\n\nJust like last year\, the pricing is $25/class for drop-in (or “pay as you go”).  If you want to prepay for the 2 months (September 10 – October 29th) then it is a savings of $5/class\, or $20 each class = $160.\n\nYou can pay by etransfer to me (karen_forgrave@hotmail.com) and I will add your name to the list.  Otherwise\, you can pay by cash or cheque on the first day of the class to Matty in the church office.\n\nAs always\, if this price represents a financial burden to you\, please reach out confidentially and subsidies can be made available.\n\nLooking forward to seeing you on the yoga mat!
URL:https://www.stjamesunitedchurch.com/event/yoga-5/2026-09-16/
ATTACH;FMTTYPE=image/jpeg:https://www.stjamesunitedchurch.com/wordpress/wp-content/uploads/2023/05/Yoga.jpeg
END:VEVENT
BEGIN:VEVENT
DTSTART;TZID=America/Toronto:20260923T110000
DTEND;TZID=America/Toronto:20260923T120000
DTSTAMP:20260421T204727
CREATED:20250906T154413Z
LAST-MODIFIED:20250906T154704Z
UID:10000748-1790161200-1790164800@www.stjamesunitedchurch.com
SUMMARY:Yoga
DESCRIPTION:Yoga at St. James will be continuing this fall with instructors from Power Yoga Canada – At Work\, including Ashley and Silvana.\n\nPlease spread the word!  Newcomers are welcome to join our yoga practice.\n\nJust like last year\, the pricing is $25/class for drop-in (or “pay as you go”).  If you want to prepay for the 2 months (September 10 – October 29th) then it is a savings of $5/class\, or $20 each class = $160.\n\nYou can pay by etransfer to me (karen_forgrave@hotmail.com) and I will add your name to the list.  Otherwise\, you can pay by cash or cheque on the first day of the class to Matty in the church office.\n\nAs always\, if this price represents a financial burden to you\, please reach out confidentially and subsidies can be made available.\n\nLooking forward to seeing you on the yoga mat!
URL:https://www.stjamesunitedchurch.com/event/yoga-5/2026-09-23/
ATTACH;FMTTYPE=image/jpeg:https://www.stjamesunitedchurch.com/wordpress/wp-content/uploads/2023/05/Yoga.jpeg
END:VEVENT
BEGIN:VEVENT
DTSTART;TZID=America/Toronto:20260930T110000
DTEND;TZID=America/Toronto:20260930T120000
DTSTAMP:20260421T204727
CREATED:20250906T154413Z
LAST-MODIFIED:20250906T154704Z
UID:10000749-1790766000-1790769600@www.stjamesunitedchurch.com
SUMMARY:Yoga
DESCRIPTION:Yoga at St. James will be continuing this fall with instructors from Power Yoga Canada – At Work\, including Ashley and Silvana.\n\nPlease spread the word!  Newcomers are welcome to join our yoga practice.\n\nJust like last year\, the pricing is $25/class for drop-in (or “pay as you go”).  If you want to prepay for the 2 months (September 10 – October 29th) then it is a savings of $5/class\, or $20 each class = $160.\n\nYou can pay by etransfer to me (karen_forgrave@hotmail.com) and I will add your name to the list.  Otherwise\, you can pay by cash or cheque on the first day of the class to Matty in the church office.\n\nAs always\, if this price represents a financial burden to you\, please reach out confidentially and subsidies can be made available.\n\nLooking forward to seeing you on the yoga mat!
URL:https://www.stjamesunitedchurch.com/event/yoga-5/2026-09-30/
ATTACH;FMTTYPE=image/jpeg:https://www.stjamesunitedchurch.com/wordpress/wp-content/uploads/2023/05/Yoga.jpeg
END:VEVENT
BEGIN:VEVENT
DTSTART;TZID=America/Toronto:20261007T110000
DTEND;TZID=America/Toronto:20261007T120000
DTSTAMP:20260421T204727
CREATED:20250906T154413Z
LAST-MODIFIED:20250906T154704Z
UID:10000750-1791370800-1791374400@www.stjamesunitedchurch.com
SUMMARY:Yoga
DESCRIPTION:Yoga at St. James will be continuing this fall with instructors from Power Yoga Canada – At Work\, including Ashley and Silvana.\n\nPlease spread the word!  Newcomers are welcome to join our yoga practice.\n\nJust like last year\, the pricing is $25/class for drop-in (or “pay as you go”).  If you want to prepay for the 2 months (September 10 – October 29th) then it is a savings of $5/class\, or $20 each class = $160.\n\nYou can pay by etransfer to me (karen_forgrave@hotmail.com) and I will add your name to the list.  Otherwise\, you can pay by cash or cheque on the first day of the class to Matty in the church office.\n\nAs always\, if this price represents a financial burden to you\, please reach out confidentially and subsidies can be made available.\n\nLooking forward to seeing you on the yoga mat!
URL:https://www.stjamesunitedchurch.com/event/yoga-5/2026-10-07/
ATTACH;FMTTYPE=image/jpeg:https://www.stjamesunitedchurch.com/wordpress/wp-content/uploads/2023/05/Yoga.jpeg
END:VEVENT
BEGIN:VEVENT
DTSTART;TZID=America/Toronto:20261014T110000
DTEND;TZID=America/Toronto:20261014T120000
DTSTAMP:20260421T204727
CREATED:20250906T154413Z
LAST-MODIFIED:20250906T154704Z
UID:10000751-1791975600-1791979200@www.stjamesunitedchurch.com
SUMMARY:Yoga
DESCRIPTION:Yoga at St. James will be continuing this fall with instructors from Power Yoga Canada – At Work\, including Ashley and Silvana.\n\nPlease spread the word!  Newcomers are welcome to join our yoga practice.\n\nJust like last year\, the pricing is $25/class for drop-in (or “pay as you go”).  If you want to prepay for the 2 months (September 10 – October 29th) then it is a savings of $5/class\, or $20 each class = $160.\n\nYou can pay by etransfer to me (karen_forgrave@hotmail.com) and I will add your name to the list.  Otherwise\, you can pay by cash or cheque on the first day of the class to Matty in the church office.\n\nAs always\, if this price represents a financial burden to you\, please reach out confidentially and subsidies can be made available.\n\nLooking forward to seeing you on the yoga mat!
URL:https://www.stjamesunitedchurch.com/event/yoga-5/2026-10-14/
ATTACH;FMTTYPE=image/jpeg:https://www.stjamesunitedchurch.com/wordpress/wp-content/uploads/2023/05/Yoga.jpeg
END:VEVENT
BEGIN:VEVENT
DTSTART;TZID=America/Toronto:20261021T110000
DTEND;TZID=America/Toronto:20261021T120000
DTSTAMP:20260421T204727
CREATED:20250906T154413Z
LAST-MODIFIED:20250906T154704Z
UID:10000752-1792580400-1792584000@www.stjamesunitedchurch.com
SUMMARY:Yoga
DESCRIPTION:Yoga at St. James will be continuing this fall with instructors from Power Yoga Canada – At Work\, including Ashley and Silvana.\n\nPlease spread the word!  Newcomers are welcome to join our yoga practice.\n\nJust like last year\, the pricing is $25/class for drop-in (or “pay as you go”).  If you want to prepay for the 2 months (September 10 – October 29th) then it is a savings of $5/class\, or $20 each class = $160.\n\nYou can pay by etransfer to me (karen_forgrave@hotmail.com) and I will add your name to the list.  Otherwise\, you can pay by cash or cheque on the first day of the class to Matty in the church office.\n\nAs always\, if this price represents a financial burden to you\, please reach out confidentially and subsidies can be made available.\n\nLooking forward to seeing you on the yoga mat!
URL:https://www.stjamesunitedchurch.com/event/yoga-5/2026-10-21/
ATTACH;FMTTYPE=image/jpeg:https://www.stjamesunitedchurch.com/wordpress/wp-content/uploads/2023/05/Yoga.jpeg
END:VEVENT
BEGIN:VEVENT
DTSTART;TZID=America/Toronto:20261028T110000
DTEND;TZID=America/Toronto:20261028T120000
DTSTAMP:20260421T204727
CREATED:20250906T154413Z
LAST-MODIFIED:20250906T154704Z
UID:10000753-1793185200-1793188800@www.stjamesunitedchurch.com
SUMMARY:Yoga
DESCRIPTION:Yoga at St. James will be continuing this fall with instructors from Power Yoga Canada – At Work\, including Ashley and Silvana.\n\nPlease spread the word!  Newcomers are welcome to join our yoga practice.\n\nJust like last year\, the pricing is $25/class for drop-in (or “pay as you go”).  If you want to prepay for the 2 months (September 10 – October 29th) then it is a savings of $5/class\, or $20 each class = $160.\n\nYou can pay by etransfer to me (karen_forgrave@hotmail.com) and I will add your name to the list.  Otherwise\, you can pay by cash or cheque on the first day of the class to Matty in the church office.\n\nAs always\, if this price represents a financial burden to you\, please reach out confidentially and subsidies can be made available.\n\nLooking forward to seeing you on the yoga mat!
URL:https://www.stjamesunitedchurch.com/event/yoga-5/2026-10-28/
ATTACH;FMTTYPE=image/jpeg:https://www.stjamesunitedchurch.com/wordpress/wp-content/uploads/2023/05/Yoga.jpeg
END:VEVENT
END:VCALENDAR